Workbook
Name Währung: '1. Nutzung'!$K$6

Sheet 1. Nutzung
A1: Über liegenschaftsverwaltendes Amt an 25.65
A2: Eingabefelder: weiß, Rechenfelder: grau | H2: Quelle: energiemanagement.stadt-frankfurt.de
A3: 1. Festlegung der Nutzungsbedingungen
A4: Liegenschaft | H4: Energiebeauftragte(r)
A5: Straße, Nr. | H5: Telefon
A6: Nutzungs-Zeitraum von | E6: bis | H6: Währung | K6: €
A7: G. Gebäude/Gebäudeteile | I7: BWZ | J7: BRF | K7: NRF | L7: Raum-
E8: Gebäude | G8: Gebäudeteil | J8: (m²) | K8: (m²) | L8: höhe (m)
A9: BWZ: Bauwerkszuordnung (s. Tab.) | D9: G1 | E9: Schulgebäude | K9: 2537
A10: Die Fläche kann brutto (BRF) o. | D10: G2 | E10: Turnhalle | K10: 648
A11: netto (NRF) angegeben werden | D11: G3 | E11: Pavillon | K11: 168
A12: BGF: Länge x Breite x Geschosszahl | D12: G4
A13: (Außenmaße des Gebäudeteils) | D13: G5
A14: NGF: Summe der Flächen aller Räume | D14: G6
A15: (incl. Flure, Treppenhäuser) | D15: G7
A16: Raumhöhe: mittlere lichte Höhe | D16: G8
A17: bei mehr als 8 Gebäudeteilen bitte ein weiteres Blatt verwenden | I17: Summe: | J17: =SUM(J9:J16) -> 0 | K17: =SUM(K9:K16) -> 3353
A18: N. Nutzung | E18: G1 | F18: G2 | G18: G3 | H18: G4 | I18: G5 | J18: G6 | K18: G7 | L18: G8
A19: N1. Bauwerkszuordnung (BWZ)
A20: N2. Personenzahl während der Nutzung
A21: N3. Anzahl PC-Arbeitsplätze
A22: N4. Nutzung (Stunden/Tag)
A23: N5. Nutzung (Tage/Woche)
A24: N6. Nutzung (Wochen/Jahr)
A25: K. Heizung/Lüftung/Klima | E25: G1 | F25: G2 | G25: G3 | H25: G4 | I25: G5 | J25: G6 | K25: G7 | L25: G8
A26: K1. Solltemperatur Heizbetrieb (°C)
A27: K2. Soll-Außenluftwechsel (m³/Stunde)
A28: nur bei Klimatisierung:
A29: K3. Solltemperatur Kühlbetrieb (°C)
A30: K4. Sollfeuchte (%)
A31: B. Beleuchtung | E31: G1 | F31: G2 | G31: G3 | H31: G4 | I31: G5 | J31: G6 | K31: G7 | L31: G8
A32: B1. Soll-Beleuchtung Nutzfläche (lux)
A33: B2. Soll-Beleuchtung Flure,Treppen (lux)
A35: sachlich richtig: | F35: gesehen: | I35: aufgestellt:
A38: (Amt für Bau und Immobilien) | F38: (Liegenschaftsleitung) | I38: (Energiebeauftragte(r))
A40: Bauwerkszuordnung | C40: BWZ | D40: Zulässige Raumkonditionen nach AMEV* | I40: Nennbeleuchtungsstärke nach DIN 5035
A41: Verwaltungsgebäude | C41: 1300 | D41: Solltemperaturen Heizbetrieb | H41: °C | I41: Unterrichtsstätten | L41: lux
A42: Allgemeinbildende Schulen | C42: 4100 | D42: Verwaltungsgebäude | I42: Außenanlagen
A43: Grundschulen | C43: 4110 | D43: - während der Nutzung | H43: 20 | I43: Überdachter Pausenbereich | L43: 50
A44: Grundschule m. Förderstufe | C44: 4111 | D44: - bei Nutzungsbeginn | H44: 19 | I44: Überdachte Fahrradstände | L44: 20
A45: Grund- u. Hauptschulen | C45: 4120 | D45: Flure und Treppenhäuser | I45: Spezielle Nebenräume
A46: Hauptschulen | C46: 4130 | D46: - üblicherweise | H46: 12 | I46: Lehrmittel- und Sammlungsraum | L46: 200
A47: Grund- ,Haupt- u. Realschul. | C47: 4140 | D47: - bei zeitweiligem Aufenthalt | H47: 15 | I47: Bildwerferräume | L47: 200
A48: Realschulen | C48: 4150 | D48: Toiletten | H48: 15 | I48: Gemeinschaftsräume
A49: Gymnasien | C49: 4160 | D49: Nebenräume | H49: 15 | I49: Flure, Treppen, Eingangshallen | L49: 100
A50: Gesamtschulen | C50: 4170 | D50: Sitzungssäle | I50: Mensen | L50: 200
A51: Additive Gesamtschulen | C51: 4171 | D51: - während der Nutzung | H51: 20 | I51: Mehrzweckräume | L51: 300
A52: Integrierte Gesamtschulen | C52: 4172 | D52: - bei Nutzungsbeginn | H52: 19 | I52: Aulen, Festräume | L52: 100
A53: Berufliche Schulen | C53: 4200 | D53: Schulen/Hochschulen/Universitäten | I53: Bibliotheken, Mediotheken | L53: 300
A54: Berufsfachschulen | C54: 4210 | D54: Unterrichtsräume/Hörsäle | I54: Leseräume | L54: 500
A55: Fachoberschulen | C55: 4220 | D55: - während der Nutzung | H55: 20 | I55: Büchermagazine | L55: 300
A56: Berufliches Gymnasium | C56: 4230 | D56: - bei Nutzungsbeginn | H56: 17-19 | I56: Allgemeine Unterrichtsräume
A57: Sonderschulen | C57: 4300 | D57: Turnhallen | H57: 17 | I57: Unterrichtsräume allgemein | L57: 300
A58: Sonderschulen f. Lernbeh. | C58: 4310 | D58: Umkleideräume | H58: 22 | I58: Unterrichtsräume mit Tageslicht <1%
A59: Sondersch. f. Körperbeh. | C59: 4320 | D59: Wasch- und Duschräume | H59: 22 | I59: sowie vorwiegende Abendnutzung | L59: 500
A60: Kindertagesstätte | C60: 4400 | D60: Gymnastikräume | H60: 17 | I60: Fachklassenräume | L60: 500
A61: Kindergärten | C61: 4410 | D61: medizinische Unterrichtsräume | H61: 24 | I61: Sportstätten
A62: Kindergarten u. Kinderhort | C62: 4420 | D62: Werkräume | H62: 18 | I62: Sport- und Schwimmhallen: Training | L62: 200
A63: Kinderhort | C63: 4430 | D63: Werkstätten | H63: 17 | I63: Sport- und Schwimmhallen: Wettkampf | L63: 400
A64: Kinderkrippen | C64: 4440 | D64: Lehrküchen mit Unterricht | H64: 18 | I64: Arbeitsstätten | L64: lux
A65: Weiterbildungseinrichtungen | C65: 4500 | D65: Lehrschwimmhallen = Wassert. + 2°C | H65: max. 30 | I65: Allgemeine Räume
A66: Bildungsstätten m. Unterkunft | C66: 4510 | D66: Aulen | I66: Lagerräume für gleichartige Güter | L66: 50
A67: Sportbauten | C67: 5000 | D67: - während der Nutzung | H67: 20 | I67: Lagerräume mit Suchaufgabe | L67: 100
A68: Hallen ( ohne Schwimmhallen ) | C68: 5100 | D68: - bei Nutzungsbeginn | H68: 17-19 | I68: Lagerräume mit Leseaufgabe | L68: 200
A69: Turnhallen 15 x 27 m | C69: 5110 | I69: Kantinen | L69: 200
A70: Turnhallen 18 x 36 m | C70: 5120 | D70: Solltemperaturen Kühlbetrieb | H70: °C | I70: Umkleideräume | L70: 100
A71: Sporthallen 27 x 45 m | C71: 5130 | D71: sofern erforderlich | H71: 26 | I71: Wasch-, Dusch- und Toilettenräume | L71: 100
A72: Sport- u. Ausbildungshallen | C72: 5140 | I72: Energieversorgung- und -verteilung | L72: 100
A73: Schwimmhallen | C73: 5200 | D73: Sollfeuchte | H73: % | I73: Büroräume und büroähnliche R.
A74: Sportplatz- u. Freibadanlagen | C74: 5300 | D74: sofern Be-/Entfeuchtung erforderlich | H74: 30-65 | I74: tageslichtorientierte Arbeitsplätze
A75: Sportplatzanlagen (Außenanl.) | C75: 5400 | I75: in unmittelbarer Fensternähe | L75: 300
A76: Wohnhäuser | C76: 6100 | D76: Sollaußenluftwechsel | H76: m³/P,h | I76: sonstige Büroräume | L76: 500
A77: Einfamilienwohnhäuser | C77: 6110 | D77: Schulen | H77: 20 | I77: Sitzungszimmer u. Besprechnungsr. | L77: 300
A78: Mehrfamilienwohnhäuser | C78: 6120 | D78: Festsaal, Aula, Lesesaal | H78: 20 | I78: Empfangsräume | L78: 100
A79: Verpflegungseinrichtungen | C79: 6500
A80: Alle Angaben: Auszug für schulische Nutzungen | L80: *Arbeitskreis Maschinen- und Elektrotechnik staatlicher und kommunaler Verwaltungen

Sheet 2. Referenzkosten
A1: Über liegenschaftsverwaltendes Amt an 25.65
F2: Quelle: energiemanagement.stadt-frankfurt.de
A3: 2. Berechnung der Referenzverbräuche und -kosten
A4: Liegenschaft | B4: =IF('1. Nutzung'!C4="","",'1. Nutzung'!C4) | F4: Energiebeauftragte(r) | I4: =IF('1. Nutzung'!K4="","",'1. Nutzung'!K4)
A5: Straße, Nr. | B5: =IF('1. Nutzung'!C5="","",'1. Nutzung'!C5) | F5: Telefon | I5: =IF('1. Nutzung'!K5="","",'1. Nutzung'!K5)
A6: Ablese-Zeitraum von | B6: 44927 | C6: bis | D6: 46023 | E6: = | F6: =B15-B14+B17-B16 -> 1096 | G6: Tage mit | H6: Gradtagzahl (Kd/a) | J6: =SUM(M7:O7) -> 8558 | L6: Jahr | M6: 2019 | N6: 2022 | O6: 2023
A7: E. Elektrischer Strom | C7: E.1.0.0-HT | D7: E.1.0.0-NT | L7: GTZ | M7: 3007 | N7: 2831 | O7: 2720
A8: E1. Zählernummer alt
A9: E2. Zählernummer neu
A10: E4. Verbrauchsbereich (z.B. Turnhalle)
A11: E5. Multiplikator alt (kWh/Einheit) | C11: 1 | D11: 1 | E11: 1 | F11: 1 | G11: 1 | H11: 1 | I11: 1 | J11: 1
A12: E6. Multiplikator neu (kWh/Einheit) | C12: =C11 -> 1 | D12: =D11 -> 1 | E12: =E11 -> 1 | F12: =F11 -> 1 | G12: =G11 -> 1 | H12: =H11 -> 1 | I12: =I11 -> 1 | J12: =J11 -> 1
A13: Zählerablesungen: | B13: Datum | C13: Zählerstand | D13: Zählerstand | E13: Zählerstand | F13: Zählerstand | G13: Zählerstand | H13: Zählerstand | I13: Zählerstand | J13: Zählerstand
A14: E7. Beginn Ablesezeitraum 1 | B14: =B6 -> 44927
A15: E8. Ende Ablesezeitraum 1
A16: E9. Beginn Ablesezeitraum 2
A17: E10. Ende Ablesezeitraum 2 | B17: =D6 -> 46023
A18: E11. Verbrauch im Ablesezeitraum (kWh) | C18: =(C15-C14)*C11+(C17-C16)*C12 -> 0 | D18: =(D15-D14)*D11+(D17-D16)*D12 -> 0 | E18: =(E15-E14)*E11+(E17-E16)*E12 -> 0 | F18: =(F15-F14)*F11+(F17-F16)*F12 -> 0 | G18: =(G15-G14)*G11+(G17-G16)*G12 -> 0 | H18: =(H15-H14)*H11+(H17-H16)*H12 -> 0 | I18: =(I15-I14)*I11+(I17-I16)*I12 -> 0 | J18: =(J15-J14)*J11+(J17-J16)*J12 -> 0
A19: E14. Referenzverbrauch (kWh/Jahr) | C19: =C18/$F$6*365 -> 0 | D19: =D18/$F$6*365 -> 0 | E19: =E18/$F$6*365 -> 0 | F19: =F18/$F$6*365 -> 0 | G19: =G18/$F$6*365 -> 0 | H19: =H18/$F$6*365 -> 0 | I19: =I18/$F$6*365 -> 0 | J19: =J18/$F$6*365 -> 0
A20: E15. EVU und Tarifart
A21: ="E16. Referenz-Bruttopreis ("&'1. Nutzung'!Währung&"/kWh)" -> E16. Referenz-Bruttopreis (€/kWh) | C21: 0.2324 | D21: =C21 -> 0.2324 | E21: =D21 -> 0.2324 | F21: =E21 -> 0.2324 | G21: =F21 -> 0.2324 | H21: =G21 -> 0.2324 | I21: =H21 -> 0.2324 | J21: =I21 -> 0.2324
A22: ="E17. Referenzkosten ("&'1. Nutzung'!Währung&"/Jahr)" -> E17. Referenzkosten (€/Jahr) | C22: =C19*C21 -> 0 | D22: =D19*D21 -> 0 | E22: =E19*E21 -> 0 | F22: =F19*F21 -> 0 | G22: =G19*G21 -> 0 | H22: =H19*H21 -> 0 | I22: =I19*I21 -> 0 | J22: =J19*J21 -> 0
A23: H. Heizenergie | C23: H.1.0.0 | D23: H.2.0.0
A24: H1. Zählernummer alt
A25: H2. Zählernummer neu
A26: H3. Verbrauchsart (z.B. Gas, Öl, Strom)
A27: H4. Verbrauchsbereich (z.B. Turnhalle)
A28: H5. Multiplikator alt (kWh/Einheit) | C28: 10.55 | D28: 1 | E28: 1 | F28: 1 | G28: 1 | H28: 1 | I28: 1 | J28: 1
A29: H6. Multiplikator neu (kWh/Einheit) | C29: 10.55 | D29: =D28 -> 1 | E29: =E28 -> 1 | F29: =F28 -> 1 | G29: =G28 -> 1 | H29: =H28 -> 1 | I29: =I28 -> 1 | J29: =J28 -> 1
A30: Zählerablesungen: | B30: Datum | C30: Zählerstand | D30: Zählerstand | E30: Zählerstand | F30: Zählerstand | G30: Zählerstand | H30: Zählerstand | I30: Zählerstand | J30: Zählerstand
A31: H7. Beginn Ablesezeitraum 1 | B31: =B6 -> 44927
A32: H8. Ende Ablesezeitraum 1
A33: H9. Beginn Ablesezeitraum 2
A34: H10. Ende Ablesezeitraum 2 | B34: =D6 -> 46023
A35: H11. Verbrauch im Ablesezeitraum (kWh) | C35: =(C32-C31)*C28+(C34-C33)*C29 -> 0 | D35: =(D32-D31)*D28+(D34-D33)*D29 -> 0 | E35: =(E32-E31)*E28+(E34-E33)*E29 -> 0 | F35: =(F32-F31)*F28+(F34-F33)*F29 -> 0 | G35: =(G32-G31)*G28+(G34-G33)*G29 -> 0 | H35: =(H32-H31)*H28+(H34-H33)*H29 -> 0 | I35: =(I32-I31)*I28+(I34-I33)*I29 -> 0 | J35: =(J32-J31)*J28+(J34-J33)*J29 -> 0
A36: H12. Jahresverbrauch (kWh/Jahr) | C36: =C35/$F$6*365 -> 0 | D36: =D35/$F$6*365 -> 0 | E36: =E35/$F$6*365 -> 0 | F36: =F35/$F$6*365 -> 0 | G36: =G35/$F$6*365 -> 0 | H36: =H35/$F$6*365 -> 0 | I36: =I35/$F$6*365 -> 0 | J36: =J35/$F$6*365 -> 0
A37: H13. Korrekturfaktor Wetter | C37: =0.15 + 0.85*3249*$F$6/($J$6*365) -> 1.1189783 | D37: =0.15 + 0.85*3249*$F$6/($J$6*365) -> 1.1189783 | E37: =0.15 + 0.85*3249*$F$6/($J$6*365) -> 1.1189783 | F37: =0.15 + 0.85*3249*$F$6/($J$6*365) -> 1.1189783 | G37: =0.15 + 0.85*3249*$F$6/($J$6*365) -> 1.1189783 | H37: =0.15 + 0.85*3249*$F$6/($J$6*365) -> 1.1189783 | I37: =0.15 + 0.85*3249*$F$6/($J$6*365) -> 1.1189783 | J37: =0.15 + 0.85*3249*$F$6/($J$6*365) -> 1.1189783
A38: H14. Referenzverbrauch (kWh/Jahr) | C38: =C36*C37 -> 0 | D38: =D36*D37 -> 0 | E38: =E36*E37 -> 0 | F38: =F36*F37 -> 0 | G38: =G36*G37 -> 0 | H38: =H36*H37 -> 0 | I38: =I36*I37 -> 0 | J38: =J36*J37 -> 0
A39: H15. EVU und Tarifart
A40: ="H16. Referenz-Bruttopreis ("&'1. Nutzung'!Währung&"/kWh)" -> H16. Referenz-Bruttopreis (€/kWh) | C40: 0.0516 | D40: =C40 -> 0.0516 | E40: =D40 -> 0.0516 | F40: =E40 -> 0.0516 | G40: =F40 -> 0.0516 | H40: =G40 -> 0.0516 | I40: =H40 -> 0.0516 | J40: =I40 -> 0.0516
A41: ="H17. Referenzkosten ("&'1. Nutzung'!Währung&"/Jahr)" -> H17. Referenzkosten (€/Jahr) | C41: =C38*C40 -> 0 | D41: =D38*D40 -> 0 | E41: =E38*E40 -> 0 | F41: =F38*F40 -> 0 | G41: =G38*G40 -> 0 | H41: =H38*H40 -> 0 | I41: =I38*I40 -> 0 | J41: =J38*J40 -> 0
A42: W. Wasser | C42: W.1.0.0
A43: W1. Zählernummer alt
A44: W2. Zählernummer neu
A45: W4. Verbrauchsbereich (z.B. Turnhalle)
A46: Zählerablesungen: | B46: Datum | C46: Zählerstand | D46: Zählerstand | E46: Zählerstand | F46: Zählerstand | G46: Zählerstand | H46: Zählerstand | I46: Zählerstand | J46: Zählerstand
A47: W7. Beginn Ablesezeitraum 1 | B47: =B6 -> 44927
A48: W8. Ende Ablesezeitraum 1
A49: W9. Beginn Ablesezeitraum 2
A50: W10. Ende Ablesezeitraum 2 | B50: =D6 -> 46023
A51: W11. Verbrauch im Ablesezeitraum (m³) | C51: =C48-C47+C50-C49 -> 0 | D51: =D48-D47+D50-D49 -> 0 | E51: =E48-E47+E50-E49 -> 0 | F51: =F48-F47+F50-F49 -> 0 | G51: =G48-G47+G50-G49 -> 0 | H51: =H48-H47+H50-H49 -> 0 | I51: =I48-I47+I50-I49 -> 0 | J51: =J48-J47+J50-J49 -> 0
A52: W14. Referenzverbrauch (m³/Jahr) | C52: =C51/$F$6*365 -> 0 | D52: =D51/$F$6*365 -> 0 | E52: =E51/$F$6*365 -> 0 | F52: =F51/$F$6*365 -> 0 | G52: =G51/$F$6*365 -> 0 | H52: =H51/$F$6*365 -> 0 | I52: =I51/$F$6*365 -> 0 | J52: =J51/$F$6*365 -> 0
A53: W15. EVU und Tarifart
A54: ="W16. Referenz-Bruttopreis ("&'1. Nutzung'!Währung&"/m³)" -> W16. Referenz-Bruttopreis (€/m³) | C54: =2+1.61 -> 3.61 | D54: =C54 -> 3.61 | E54: =D54 -> 3.61 | F54: =E54 -> 3.61 | G54: =F54 -> 3.61 | H54: =G54 -> 3.61 | I54: =H54 -> 3.61 | J54: =I54 -> 3.61
A55: ="W17. Referenzkosten ("&'1. Nutzung'!Währung&"/Jahr)" -> W17. Referenzkosten (€/Jahr) | C55: =C52*C54 -> 0 | D55: =D52*D54 -> 0 | E55: =E52*E54 -> 0 | F55: =F52*F54 -> 0 | G55: =G52*G54 -> 0 | H55: =H52*H54 -> 0 | I55: =I52*I54 -> 0 | J55: =J52*J54 -> 0
A56: S. Summen | C56: Strom + | D56: Heizung + | E56: Wasser = | F56: Summe
A57: S1. Referenzverbräuche | C57: =SUM(C19:J19) -> 0 | D57: =SUM(C38:J38) -> 0 | E57: =SUM(C52:J52) -> 0
A58: ="S2. Referenzkosten ("&'1. Nutzung'!Währung&"/Jahr)" -> S2. Referenzkosten (€/Jahr) | C58: =SUM(C22:J22) -> 0 | D58: =SUM(C41:J41) -> 0 | E58: =SUM(C55:J55) -> 0 | F58: =C58+D58+E58 -> 0
A60: sachlich richtig | D60: gesehen: | G60: aufgestellt:
A63: (Amt für Bau und Immobilien) | D63: (Liegenschaftsleitung) | G63: (Energiebeauftragte(r))

Sheet 3. Monatsablesung
A1: An 25.65
H2: Quelle: energiemanagement.stadt-frankfurt.de
A3: ="3. Monatsablesung der Zählerstände "&YEAR(D6) -> 3. Monatsablesung der Zählerstände 2026
A4: Liegenschaft | D4: =IF('1. Nutzung'!C4="","",'1. Nutzung'!C4) | H4: Energiebeauftragte(r) | K4: =IF('1. Nutzung'!K4="","",'1. Nutzung'!K4)
A5: Straße, Nr. | D5: =IF('1. Nutzung'!C5="","",'1. Nutzung'!C5) | H5: Telefon | K5: =IF('1. Nutzung'!K5="","",'1. Nutzung'!K5)
A6: Ablese-Zeitraum von | D6: 46023 | E6: bis | F6: =D6+365 -> 46388
A7: E. Elektrischer Strom | E7: =IF('2. Referenzkosten'!C7="","",'2. Referenzkosten'!C7) -> E.1.0.0-HT | F7: =IF('2. Referenzkosten'!D7="","",'2. Referenzkosten'!D7) -> E.1.0.0-NT | G7: =IF('2. Referenzkosten'!E7="","",'2. Referenzkosten'!E7) | H7: =IF('2. Referenzkosten'!F7="","",'2. Referenzkosten'!F7) | I7: =IF('2. Referenzkosten'!G7="","",'2. Referenzkosten'!G7) | J7: =IF('2. Referenzkosten'!H7="","",'2. Referenzkosten'!H7) | K7: =IF('2. Referenzkosten'!I7="","",'2. Referenzkosten'!I7) | L7: =IF('2. Referenzkosten'!J7="","",'2. Referenzkosten'!J7)
A8: E1. Zählernummer | E8: =IF('2. Referenzkosten'!C9="","",'2. Referenzkosten'!C9) | F8: =IF('2. Referenzkosten'!D9="","",'2. Referenzkosten'!D9) | G8: =IF('2. Referenzkosten'!E9="","",'2. Referenzkosten'!E9) | H8: =IF('2. Referenzkosten'!F9="","",'2. Referenzkosten'!F9) | I8: =IF('2. Referenzkosten'!G9="","",'2. Referenzkosten'!G9) | J8: =IF('2. Referenzkosten'!H9="","",'2. Referenzkosten'!H9) | K8: =IF('2. Referenzkosten'!I9="","",'2. Referenzkosten'!I9) | L8: =IF('2. Referenzkosten'!J9="","",'2. Referenzkosten'!J9)
A9: E4. Verbrauchsber. (z.B. Turnh.) | E9: =IF('2. Referenzkosten'!C10="","",'2. Referenzkosten'!C10) | F9: =IF('2. Referenzkosten'!D10="","",'2. Referenzkosten'!D10) | G9: =IF('2. Referenzkosten'!E10="","",'2. Referenzkosten'!E10) | H9: =IF('2. Referenzkosten'!F10="","",'2. Referenzkosten'!F10) | I9: =IF('2. Referenzkosten'!G10="","",'2. Referenzkosten'!G10) | J9: =IF('2. Referenzkosten'!H10="","",'2. Referenzkosten'!H10) | K9: =IF('2. Referenzkosten'!I10="","",'2. Referenzkosten'!I10) | L9: =IF('2. Referenzkosten'!J10="","",'2. Referenzkosten'!J10)
A10: E5. Multiplikator (kWh/Einheit) | E10: =IF('2. Referenzkosten'!C12="","",'2. Referenzkosten'!C12) -> 1 | F10: =IF('2. Referenzkosten'!D12="","",'2. Referenzkosten'!D12) -> 1 | G10: =IF('2. Referenzkosten'!E12="","",'2. Referenzkosten'!E12) -> 1 | H10: =IF('2. Referenzkosten'!F12="","",'2. Referenzkosten'!F12) -> 1 | I10: =IF('2. Referenzkosten'!G12="","",'2. Referenzkosten'!G12) -> 1 | J10: =IF('2. Referenzkosten'!H12="","",'2. Referenzkosten'!H12) -> 1 | K10: =IF('2. Referenzkosten'!I12="","",'2. Referenzkosten'!I12) -> 1 | L10: =IF('2. Referenzkosten'!J12="","",'2. Referenzkosten'!J12) -> 1
A11: Soll-Dat. | B11: Ist-Dat, Bemerkungen | E11: Zählerstand | F11: Zählerstand | G11: Zählerstand | H11: Zählerstand | I11: Zählerstand | J11: Zählerstand | K11: Zählerstand | L11: Zählerstand
A12: 01.01. | B12: =$D$6 -> 46023 | D12: Kopie an 25.65 | E12: 0 | F12: 0 | G12: 0 | H12: 0 | I12: 0 | J12: 0 | K12: 0 | L12: 0
A13: 01.02.
A14: 01.03.
A15: 01.04. | D15: Kopie an 25.65
A16: 01.05.
A17: 01.06.
A18: 01.07. | D18: Kopie an 25.65
A19: 01.08.
A20: 01.09.
A21: 01.10. | D21: Kopie an 25.65
A22: 01.11.
A23: 01.12.
A24: 01.01. | B24: =$F$6 -> 46388 | D24: Kopie an 25.65 | E24: 0 | F24: 0 | G24: 0 | H24: 0 | I24: 0 | J24: 0 | K24: 0 | L24: 0
A25: H. Heizenergie | E25: =IF('2. Referenzkosten'!C23="","",'2. Referenzkosten'!C23) -> H.1.0.0 | F25: =IF('2. Referenzkosten'!D23="","",'2. Referenzkosten'!D23) -> H.2.0.0 | G25: =IF('2. Referenzkosten'!E23="","",'2. Referenzkosten'!E23) | H25: =IF('2. Referenzkosten'!F23="","",'2. Referenzkosten'!F23) | I25: =IF('2. Referenzkosten'!G23="","",'2. Referenzkosten'!G23) | J25: =IF('2. Referenzkosten'!H23="","",'2. Referenzkosten'!H23) | K25: =IF('2. Referenzkosten'!I23="","",'2. Referenzkosten'!I23) | L25: =IF('2. Referenzkosten'!J23="","",'2. Referenzkosten'!J23)
A26: H1. Zählernummer | E26: =IF('2. Referenzkosten'!C25="","",'2. Referenzkosten'!C25) | F26: =IF('2. Referenzkosten'!D25="","",'2. Referenzkosten'!D25) | G26: =IF('2. Referenzkosten'!E25="","",'2. Referenzkosten'!E25) | H26: =IF('2. Referenzkosten'!F25="","",'2. Referenzkosten'!F25) | I26: =IF('2. Referenzkosten'!G25="","",'2. Referenzkosten'!G25) | J26: =IF('2. Referenzkosten'!H25="","",'2. Referenzkosten'!H25) | K26: =IF('2. Referenzkosten'!I25="","",'2. Referenzkosten'!I25) | L26: =IF('2. Referenzkosten'!J25="","",'2. Referenzkosten'!J25)
A27: H3. Verbrauchsart (z.B. Gas, Öl) | E27: =IF('2. Referenzkosten'!C26="","",'2. Referenzkosten'!C26) | F27: =IF('2. Referenzkosten'!D26="","",'2. Referenzkosten'!D26) | G27: =IF('2. Referenzkosten'!E26="","",'2. Referenzkosten'!E26) | H27: =IF('2. Referenzkosten'!F26="","",'2. Referenzkosten'!F26) | I27: =IF('2. Referenzkosten'!G26="","",'2. Referenzkosten'!G26) | J27: =IF('2. Referenzkosten'!H26="","",'2. Referenzkosten'!H26) | K27: =IF('2. Referenzkosten'!I26="","",'2. Referenzkosten'!I26) | L27: =IF('2. Referenzkosten'!J26="","",'2. Referenzkosten'!J26)
A28: H4. Verbrauchsbereich (z.B. Turnhalle) | E28: =IF('2. Referenzkosten'!C27="","",'2. Referenzkosten'!C27) | F28: =IF('2. Referenzkosten'!D27="","",'2. Referenzkosten'!D27) | G28: =IF('2. Referenzkosten'!E27="","",'2. Referenzkosten'!E27) | H28: =IF('2. Referenzkosten'!F27="","",'2. Referenzkosten'!F27) | I28: =IF('2. Referenzkosten'!G27="","",'2. Referenzkosten'!G27) | J28: =IF('2. Referenzkosten'!H27="","",'2. Referenzkosten'!H27) | K28: =IF('2. Referenzkosten'!I27="","",'2. Referenzkosten'!I27) | L28: =IF('2. Referenzkosten'!J27="","",'2. Referenzkosten'!J27)
A29: H5. Multiplikator (kWh/Einheit) | E29: =IF('2. Referenzkosten'!C29="","",'2. Referenzkosten'!C29) -> 10.55 | F29: =IF('2. Referenzkosten'!D29="","",'2. Referenzkosten'!D29) -> 1 | G29: =IF('2. Referenzkosten'!E29="","",'2. Referenzkosten'!E29) -> 1 | H29: =IF('2. Referenzkosten'!F29="","",'2. Referenzkosten'!F29) -> 1 | I29: =IF('2. Referenzkosten'!G29="","",'2. Referenzkosten'!G29) -> 1 | J29: =IF('2. Referenzkosten'!H29="","",'2. Referenzkosten'!H29) -> 1 | K29: =IF('2. Referenzkosten'!I29="","",'2. Referenzkosten'!I29) -> 1 | L29: =IF('2. Referenzkosten'!J29="","",'2. Referenzkosten'!J29) -> 1
A30: Soll-Dat. | B30: Ist-Dat, Bemerkungen | E30: Zählerstand | F30: Zählerstand | G30: Zählerstand | H30: Zählerstand | I30: Zählerstand | J30: Zählerstand | K30: Zählerstand | L30: Zählerstand
A31: 01.01. | B31: =$D$6 -> 46023 | D31: Kopie an 25.65 | E31: 0 | F31: 0 | G31: 0 | H31: 0 | I31: 0 | J31: 0 | K31: 0 | L31: 0
A32: 01.02.
A33: 01.03.
A34: 01.04. | D34: Kopie an 25.65
A35: 01.05.
A36: 01.06.
A37: 01.07. | D37: Kopie an 25.65
A38: 01.08.
A39: 01.09.
A40: 01.10. | D40: Kopie an 25.65
A41: 01.11.
A42: 01.12.
A43: 01.01. | B43: =$F$6 -> 46388 | D43: Kopie an 25.65 | E43: 0 | F43: 0 | G43: 0 | H43: 0 | I43: 0 | J43: 0 | K43: 0 | L43: 0
A44: W. Wasser | E44: =IF('2. Referenzkosten'!C42="","",'2. Referenzkosten'!C42) -> W.1.0.0 | F44: =IF('2. Referenzkosten'!D42="","",'2. Referenzkosten'!D42) | G44: =IF('2. Referenzkosten'!E42="","",'2. Referenzkosten'!E42) | H44: =IF('2. Referenzkosten'!F42="","",'2. Referenzkosten'!F42) | I44: =IF('2. Referenzkosten'!G42="","",'2. Referenzkosten'!G42) | J44: =IF('2. Referenzkosten'!H42="","",'2. Referenzkosten'!H42) | K44: =IF('2. Referenzkosten'!I42="","",'2. Referenzkosten'!I42) | L44: =IF('2. Referenzkosten'!J42="","",'2. Referenzkosten'!J42)
A45: W1. Zählernummer | E45: =IF('2. Referenzkosten'!C44="","",'2. Referenzkosten'!C44) | F45: =IF('2. Referenzkosten'!D44="","",'2. Referenzkosten'!D44) | G45: =IF('2. Referenzkosten'!E44="","",'2. Referenzkosten'!E44) | H45: =IF('2. Referenzkosten'!F44="","",'2. Referenzkosten'!F44) | I45: =IF('2. Referenzkosten'!G44="","",'2. Referenzkosten'!G44) | J45: =IF('2. Referenzkosten'!H44="","",'2. Referenzkosten'!H44) | K45: =IF('2. Referenzkosten'!I44="","",'2. Referenzkosten'!I44) | L45: =IF('2. Referenzkosten'!J44="","",'2. Referenzkosten'!J44)
A46: W4. Verbrauchsbereich | E46: =IF('2. Referenzkosten'!C45="","",'2. Referenzkosten'!C45) | F46: =IF('2. Referenzkosten'!D45="","",'2. Referenzkosten'!D45) | G46: =IF('2. Referenzkosten'!E45="","",'2. Referenzkosten'!E45) | H46: =IF('2. Referenzkosten'!F45="","",'2. Referenzkosten'!F45) | I46: =IF('2. Referenzkosten'!G45="","",'2. Referenzkosten'!G45) | J46: =IF('2. Referenzkosten'!H45="","",'2. Referenzkosten'!H45) | K46: =IF('2. Referenzkosten'!I45="","",'2. Referenzkosten'!I45) | L46: =IF('2. Referenzkosten'!J45="","",'2. Referenzkosten'!J45)
A47: Soll-Dat. | B47: Ist-Dat, Bemerkungen | E47: Zählerstand | F47: Zählerstand | G47: Zählerstand | H47: Zählerstand | I47: Zählerstand | J47: Zählerstand | K47: Zählerstand | L47: Zählerstand
A48: 01.01. | B48: =$D$6 -> 46023 | D48: Kopie an 25.65 | E48: 0 | F48: 0 | G48: 0 | H48: 0 | I48: 0 | J48: 0 | K48: 0 | L48: 0
A49: 01.02.
A50: 01.03.
A51: 01.04. | D51: Kopie an 25.65
A52: 01.05.
A53: 01.06.
A54: 01.07. | D54: Kopie an 25.65
A55: 01.08.
A56: 01.09.
A57: 01.10. | D57: Kopie an 25.65
A58: 01.11.
A59: 01.12.
A60: 01.01. | B60: =$F$6 -> 46388 | D60: Kopie an 25.65 | E60: 0 | F60: 0 | G60: 0 | H60: 0 | I60: 0 | J60: 0 | K60: 0 | L60: 0
A61: Z. Zählerwechsel
A62: Z1. Zählernummer alt | J62: Frankfurt, den
A63: Z2. Zählernummer neu
A64: Z3. Datum des Zählerwechsels
A65: Z3. Zählerstand Ausbau alter Zähler | J65: (Energiebeauftragte(r))
A66: Z4. Zählerstand Einbau neuer Zähler
A67: Eine Kopie wird zu jedem Quartalswechsel an 25.65 geschickt (energiecontrolling.amt25@stadt-frankfurt.de), das Original verbleibt im Gebäude.
A68: Bei Rückfragen: Rufen Sie uns an! Telefon: Oliver Seidel: 4 07 43

Sheet 4A. Nachweis - Meldung 1
A1: An 25.65
F2: Quelle: energiemanagement.stadt-frankfurt.de
A3: 4A. Nachweis der eingesparten Energie- u. Wasserkosten | G3: 45658 | H3: Nettogrundfläche = | J3: s. Blatt 1
A4: Blatt A - Meldung der Zählerwerte und Änderungen in Nutzung und Gebäudesubstanz
A5: Liegenschaft | F5: Energiebeauftragte(r) | I5: =""
A6: Straße, Nr. | F6: Telefon | I6: =""
A7: Ablese-Zeitraum von | C7: bis | F7: ="Schüler-/ Nutzer Anzahl Herbst "&YEAR(G3) -> Schüler-/ Nutzer Anzahl Herbst 2025
A8: E. Elektrischer Strom | C8: ='3. Monatsablesung'!E7 -> E.1.0.0-HT | D8: ='3. Monatsablesung'!F7 -> E.1.0.0-NT | E8: ='3. Monatsablesung'!G7 | F8: ='3. Monatsablesung'!H7 | G8: ='3. Monatsablesung'!I7 | H8: ='3. Monatsablesung'!J7 | I8: ='3. Monatsablesung'!K7 | J8: ='3. Monatsablesung'!L7
A9: E1. Zählernummer alt
A10: E2. Zählernummer neu
A11: E3. Verbrauchsbereich (z.B. Schule)
A12: E4. Multiplikator alt (kWh/Einheit)
A13: E5. Multiplikator neu (kWh/Einheit) | C13: ='3. Monatsablesung'!E10 -> 1 | D13: ='3. Monatsablesung'!F10 -> 1 | E13: ='3. Monatsablesung'!G10 -> 1 | F13: ='3. Monatsablesung'!H10 -> 1 | G13: ='3. Monatsablesung'!I10 -> 1 | H13: ='3. Monatsablesung'!J10 -> 1 | I13: ='3. Monatsablesung'!K10 -> 1 | J13: ='3. Monatsablesung'!L10 -> 1
A14: Zählerablesungen: | B14: Datum | C14: Zählerstand | D14: Zählerstand | E14: Zählerstand | F14: Zählerstand | G14: Zählerstand | H14: Zählerstand | I14: Zählerstand | J14: Zählerstand
A15: E6. Beginn Ablesezeitraum
A16: E7. Zählerwechsel: Zählerstand alt
A17: E8. Zählerstand neu
A18: E9. Ende Ablesezeitraum
A19: E10. Verbrauch im Ablesezeitraum (kWh) | C19: =IF(C9="","",(C16-C15)*C12+(C18-C17)*C13) | D19: =IF(D9="","",(D16-D15)*D12+(D18-D17)*D13) | E19: =IF(E9="","",(E16-E15)*E12+(E18-E17)*E13) | F19: =IF(F9="","",(F16-F15)*F12+(F18-F17)*F13) | G19: =IF(G9="","",(G16-G15)*G12+(G18-G17)*G13) | H19: =IF(H9="","",(H16-H15)*H12+(H18-H17)*H13) | I19: =IF(I9="","",(I16-I15)*I12+(I18-I17)*I13) | J19: =IF(J9="","",(J16-J15)*J12+(J18-J17)*J13)
A20: H. Heizenergie | C20: ='3. Monatsablesung'!E25 -> H.1.0.0 | D20: ='3. Monatsablesung'!F25 -> H.2.0.0 | E20: ='3. Monatsablesung'!G25 | F20: ='3. Monatsablesung'!H25 | G20: ='3. Monatsablesung'!I25 | H20: ='3. Monatsablesung'!J25 | I20: ='3. Monatsablesung'!K25 | J20: ='3. Monatsablesung'!L25
A21: H1. Zählernummer alt
A22: H2. Zählernummer neu | C22: =C21 -> 0 | D22: =D21 -> 0 | E22: =E21 -> 0 | F22: =F21 -> 0 | G22: =G21 -> 0 | H22: =H21 -> 0 | I22: =I21 -> 0 | J22: =J21 -> 0
A23: H3. Verbrauchsbereich (z.B. Turnhalle)
A24: H4. Multiplikator alt (kWh/Einheit) | C24: ='3. Monatsablesung'!E29 -> 10.55 | D24: ='3. Monatsablesung'!F29 -> 1 | E24: ='3. Monatsablesung'!G29 -> 1 | F24: ='3. Monatsablesung'!H29 -> 1 | G24: ='3. Monatsablesung'!I29 -> 1 | H24: ='3. Monatsablesung'!J29 -> 1 | I24: ='3. Monatsablesung'!K29 -> 1 | J24: ='3. Monatsablesung'!L29 -> 1
A25: H5. Multiplikator neu (kWh/Einheit) | C25: =C24 -> 10.55 | D25: =D24 -> 1 | E25: =E24 -> 1 | F25: =F24 -> 1 | G25: =G24 -> 1 | H25: =H24 -> 1 | I25: =I24 -> 1 | J25: =J24 -> 1
A26: Zählerablesungen: | B26: Datum | C26: Zählerstand | D26: Zählerstand | E26: Zählerstand | F26: Zählerstand | G26: Zählerstand | H26: Zählerstand | I26: Zählerstand | J26: Zählerstand
A27: H6. Beginn Ablesezeitraum
A28: H7. Zählerwechsel: Zählerstand alt
A29: H8. Zählerstand neu
A30: H9. Ende Ablesezeitraum
A31: H10. Verbrauch im Ablesezeitraum (kWh) | C31: =IF(C21="","",(C28-C27)*C24+(C30-C29)*C25) | D31: =IF(D21="","",(D28-D27)*D24+(D30-D29)*D25) | E31: =IF(E21="","",(E28-E27)*E24+(E30-E29)*E25) | F31: =IF(F21="","",(F28-F27)*F24+(F30-F29)*F25) | G31: =IF(G21="","",(G28-G27)*G24+(G30-G29)*G25) | H31: =IF(H21="","",(H28-H27)*H24+(H30-H29)*H25) | I31: =IF(I21="","",(I28-I27)*I24+(I30-I29)*I25) | J31: =IF(J21="","",(J28-J27)*J24+(J30-J29)*J25)
A32: W. Wasser | C32: ='3. Monatsablesung'!E44 -> W.1.0.0 | D32: ='3. Monatsablesung'!F44 | E32: ='3. Monatsablesung'!G44 | F32: ='3. Monatsablesung'!H44 | G32: ='3. Monatsablesung'!I44 | H32: ='3. Monatsablesung'!J44 | I32: ='3. Monatsablesung'!K44 | J32: ='3. Monatsablesung'!L44
A33: W1. Zählernummer alt
A34: W2. Zählernummer neu | C34: =C33 -> 0 | D34: =D33 -> 0 | E34: =E33 -> 0 | F34: =F33 -> 0 | G34: =G33 -> 0 | H34: =H33 -> 0 | I34: =I33 -> 0 | J34: =J33 -> 0
A35: W3. Verbrauchsbereich (z.B. Kantine)
A36: Zählerablesungen: | B36: Datum | C36: Zählerstand | D36: Zählerstand | E36: Zählerstand | F36: Zählerstand | G36: Zählerstand | H36: Zählerstand | I36: Zählerstand | J36: Zählerstand
A37: W4. Beginn Ablesezeitraum
A38: W5. Zählerwechsel: Zählerstand alt
A39: W6. Zählerstand neu
A40: W7. Ende Ablesezeitraum
A41: W8. Verbrauch im Ablesezeitraum (m³) | C41: =IF(C33="","",(C38-C37)+(C40-C39)) | D41: =IF(D33="","",(D38-D37)+(D40-D39)) | E41: =IF(E33="","",(E38-E37)+(E40-E39)) | F41: =IF(F33="","",(F38-F37)+(F40-F39)) | G41: =IF(G33="","",(G38-G37)+(G40-G39)) | H41: =IF(H33="","",(H38-H37)+(H40-H39)) | I41: =IF(I33="","",(I38-I37)+(I40-I39)) | J41: =IF(J33="","",(J38-J37)+(J40-J39))
A42: N1. Nutzung und bauliche | C42: Änderungen, die einen Einfluss auf den Energie- und Wasserverbrauch der Liegenschaft haben, sind dem Energiemanagement zu melden.
A43: Maßnahmen
A44: Die Kästchen entsprechend ankreuzen, die auf die Ligenschaft zutreffen.
A46: =" Es sind derzeit keine Änderungen bekannt, die einen Einfluss auf den Energie- und Wasserverbrauch "&YEAR(G3)&" haben." -> Es sind derzeit keine Änderungen bekannt, die einen Einfluss auf den Energie- und Wasserverbrauch 2025 haben.
A47: ="Folgende Änderungen haben sich während des Jahres "&YEAR(G3)&" ergeben. Siehe auch Fortsetzung Blatt 4B" -> Folgende Änderungen haben sich während des Jahres 2025 ergeben. Siehe auch Fortsetzung Blatt 4B
A48: Aufstellung (und Abbau) (beweglicher) Geräte | F48: Schäden / Havarien
A49: Trocknungsgeräte (z.B. nach Wasserschäden) | F49: Wasserleckagen
A50: Monitore | F50: Ausfall der Heizung
A51: PC’s | F51: Ausfall der Lüftungsanlage
A52: Luftfiltergeräte | F52: Ausfall der GA (GLT) | H52: Heizung, | I52: Lüftung, | J52: Licht
A53: Luftbefeuchter | F53: Beschädigte Wärmedämmung an Leitungen oder Entfernung
A54: Stehleuchten | F54: der Wärmedämmung bei Reparaturen am Heizungssystem
A55: Waschmaschinen | F55: Ausfall des BHKW’s
A56: Elektronische Whiteboards | F56: Außerbetriebnahme des Schwimmbads
A57: Mobile Tablet-Ladestationen | F57: Sonstiges:
A58: Sonstiges: | F58: Bitte Datum der Kenntnis oder des Auftretens, Datum der Beseitigung des Schaden oder der Wiederinbetriebnahme in einem separaten Dokument diesen Unterlagen bei der Übermittlung beilegen
A59: Bitte Anzahl der Geräte, Datum der Aufstellung, Datum des Abbaus, ggf. Foto des Typenschildes in einem separaten Dokument diesen Unterlagen bei der Übermittlung beilegen
A63: Weitere Änderungen werden Blatt 4B aufgeführt
A64: Hinweis: Änderungen, die nicht bekanntgegeben wurden, können ggf. zu einer nachträglichen Korrektur und zu Rückzahlung der Prämien führen
A66: gesehen: | G66: aufgestellt:
G68: =I5
A69: (Liegenschafts-/ Schulleitung) | G69: (Energiebeauftragte(r))

Sheet 4B. Nachweis - Meldung 2
A1: An 25.65
F2: Quelle: energiemanagement.stadt-frankfurt.de
A3: 4B. Nachweis der eingesparten Energie- u. Wasserkosten | G3: 45658 | H3: Nettogrundfläche = | J3: s. Blatt 1
A4: Blatt B - Meldung der Änderungen in Nutzung und Gebäudesubstanz, weitere Änderungen
A5: Liegenschaft | F5: Energiebeauftragte(r) | I5: =""
A6: Straße, Nr. | F6: Telefon | I6: =""
A7: Ablese-Zeitraum von | C7: bis | F7: ="Schüler-/ Nutzer Anzahl Herbst "&YEAR(G3) -> Schüler-/ Nutzer Anzahl Herbst 2025
A8: N2. Nutzung und bauliche | C8: Änderungen die einen Einfluß auf den Energie und Wasserverbrauch der Liegenschaft haben, sind dem Energiemanagement zu melden.
A9: Maßnahmen
A11: Die Kästchen entsprechend ankreuzen, die auf die Ligenschaft zutreffen.
A13: ="Folgende Änderungen haben sich während des Jahres "&YEAR(G3)&" ergeben. Siehe auch Blatt 4A" -> Folgende Änderungen haben sich während des Jahres 2025 ergeben. Siehe auch Blatt 4A
A14: Neue Anlagen der Technischen Gebäudeausrüstung | F14: Errichtung oder Abriss neuer Gebäude (-Teile)
A15: Austausch Heizkessel | F15: Aufstellung Container-Anlagen (auch als Holzmodule)
A16: Errichtung Wärmepumpe zur Trinkwassererzeugung | F16: Rückbau einer Container-Anlage (auch Holzmodule)
A17: Errichtung von PV-Anlagen | F17: Abriss eines Gebäudes
A18: Errichtung von BHKWs | F18: Errichtung eines Gebäudes (-Teils) (z.B. Dachaufstockung)
A19: Errichtung Solarthermische Anlage (Solarkollektor) | F19: Außerbetriebnahme eines Gebäudes (-Teils)
A20: Errichtung einer Lüftungsanlage | F20: Sonstiges:
A21: Errichtung eines Klimagerätes (z.B. zur Serverkühlung) | F21: Bitte Datum der Inbetriebnahme oder Außerbetriebnahme, Anzahl der Container, Art der Beheizung der Container (z.B. elektrischer Heizkörper), in einem separaten Dokument diesen Unterlagen bei der Übermittlung beilegen
A22: Installation Hygienespülstationen Trinkwasser
A23: Errichtung Ladestationen (PkW, Fahrrad)
A24: Errichtung einer Zisterne / Regenwassernutzungsanlage
A25: Sonstiges:
A26: Bitte Anzahl der Geräte, Datum der Installation oder Errichtung, ggf. Foto des Typenschildes in einem separaten Dokument diesen Unterlagen bei der Übermittlung beilegen | F26: Änderung der Nutzung
F27: Längere / kürzere Nutzungszeiten eines Gebäude (-teils)
F28: Höhere / niedrigere Nutzer-/ Schülerzahlen (z.B. neue Klassen)
F29: Einrichtung von Unterkünften (z.B. bei Krisen)
A30: Anlagen- und Betriebsoptimierung | F30: Umnutzung von Räumen (z.B. DWG für den psycholog. Dienst)
A31: Installation einer GA | B31: Heizung, | C31: Lüftung, | D31: Licht | F31: Nutzung eines vorher ungenutzten Gebäude (-Teils)
A32: Einstellung der Betriebszeiten (z.B. Laufzeiten Lüftungsanlage) | F32: Sonstiges:
A33: Einstellung der Systemtemperaturen (z.B. Einstellung der Heiz- | F33: Bitte Anzahl der Personen, Datum des Beginn der veränderten Nutzung, Angabe des örtlichen Bereiches (z.B. Turnhalle oder der betroffenen Fläche (3 Klassenräume je 60 m²) in einem separaten Dokument diesen Unterlagen bei der Übermittlung beilegen
A34: kurve am Heizkessel oder der Raumtemperaturen in der GLT)
A35: Austausch o. Einstellung Thermostatventile und anderer Ventile
A36: Durchführung des hydraulischen Abgleiches,
A37: Einbau von begrenzbaren oder smarten Thermostatköpfen
A38: Installation elektronischer Armaturen Handwaschbecken | F38: Änderungen an der Gebäudehülle / Grünanlagen
A39: Einbau Perlatoren oder | F39: Dämmung der Fassade
A40: Volumenstrombegrenzung in Trinkwasserinstallationen | F40: Austausch von Fenstern
A41: Einbau von effizienteren Pumpen oder Ventilatoren | F41: Dämmung der Obersten Geschossdecke / des Daches
A42: Austausch von Leuchten oder Lampen (auf z.B. LED) | F42: neue Grünflächen, neue Fassadenbegrünung, Entsiegelung
A43: Sonstiges: | F43: Sonstiges:
A44: Bitte Anzahl der Geräte, Datum der Einstellung oder Installation, neue und Bisherige Betriebszeiten oder -Temperaturen, ggf. Foto des Typenschildes in einem separaten Dokument diesen Unterlagen bei der Übermittlung beilegen | F44: Bitte Datum des Baubeginn, Datum des Bauende, Lageplan mit Markierung des betroffenen Bereichs, Angabe der Fläche in m², Anzahl der Fenster in einem separaten Dokument diesen Unterlagen bei der Übermittlung beilegen
A49: Gemeinsame Aktivitäten mit dem E-Team der Schule
A50: Durch gemeinsame Aktivitäten mit dem E-Team der Schule soll bei Schülern, Lehrern, der Schulleitung und den weiteren Akteuren in der Schule das Bewusstsein für einen ressourcen-schonenden Umgang mit Energie und Wasser gefördert werden.
A52: Energierundgänge mit dem E-Team | D52: weitere Aktivitäten:
A54: Weitere Änderungen in der Nutzung oder der Gebäudesubstanz bzw. zugehörige Angaben; weitere Aktivitäten mit dem E-Team:
A65: Hinweis: Änderungen, die nicht bekanntgegeben wurden, können ggf. zu einer nachträglichen Korrektur und zu Rückzahlung der Prämien führen
A67: gesehen: | G67: aufgestellt:
G69: =I5
A70: (Liegenschafts-/ Schulleitung) | G70: (Energiebeauftragte(r))

Sheet 4C. Nachweis - Berechnung
A1: An 25.65
F2: Quelle: energiemanagement.stadt-frankfurt.de
A3: 4C. Nachweis der eingesparten Energie- u. Wasserkosten | G3: 45658 | H3: Nettogrundfläche = | J3: ='1. Nutzung'!K17 -> 3353
A4: Blatt C - Berechnung der Kostenersparnis | G4: Schüler- / Nutzer Anzahl =
A5: Liegenschaft | F5: Energiebeauftragte(r) | I5: =""
A6: Straße, Nr. | F6: Telefon
A7: Ablese-Zeitraum von | B7: =G3 -> 45658 | C7: bis | D7: =B7+366 -> 46024 | E7: = | F7: =D7-B7 -> 366 | G7: Tage mit | H7: Gradtagzahl (Kd/a) | J7: =F68 -> 2795
A8: E. Elektrischer Strom | C8: ='3. Monatsablesung'!E7 -> E.1.0.0-HT | D8: ='3. Monatsablesung'!F7 -> E.1.0.0-NT | E8: ='3. Monatsablesung'!G7 | F8: ='3. Monatsablesung'!H7 | G8: ='3. Monatsablesung'!I7 | H8: ='3. Monatsablesung'!J7 | I8: ='3. Monatsablesung'!K7 | J8: ='3. Monatsablesung'!L7
A9: E1. Zählernummer alt
A10: E2. Zählernummer neu
A11: E3. Verbrauchsbereich (z.B. Schule)
A12: E4. Multiplikator alt (kWh/Einheit)
A13: E5. Multiplikator neu (kWh/Einheit) | C13: ='3. Monatsablesung'!E10 -> 1 | D13: ='3. Monatsablesung'!F10 -> 1 | E13: ='3. Monatsablesung'!G10 -> 1 | F13: ='3. Monatsablesung'!H10 -> 1 | G13: ='3. Monatsablesung'!I10 -> 1 | H13: ='3. Monatsablesung'!J10 -> 1 | I13: ='3. Monatsablesung'!K10 -> 1 | J13: ='3. Monatsablesung'!L10 -> 1
A14: Zählerablesungen: | B14: Datum | C14: Zählerstand | D14: Zählerstand | E14: Zählerstand | F14: Zählerstand | G14: Zählerstand | H14: Zählerstand | I14: Zählerstand | J14: Zählerstand
A15: E6. Beginn Ablesezeitraum | B15: =B7 -> 45658
A16: E7. Zählerwechsel: Zählerstand alt
A17: E8. Zählerstand neu
A18: E9. Ende Ablesezeitraum | B18: =D7 -> 46024
A19: E10. Verbrauch im Ablesezeitraum (kWh) | C19: =IF(C9="","",(C16-C15)*C12+(C18-C17)*C13) | D19: =IF(D9="","",(D16-D15)*D12+(D18-D17)*D13) | E19: =IF(E9="","",(E16-E15)*E12+(E18-E17)*E13) | F19: =IF(F9="","",(F16-F15)*F12+(F18-F17)*F13) | G19: =IF(G9="","",(G16-G15)*G12+(G18-G17)*G13) | H19: =IF(H9="","",(H16-H15)*H12+(H18-H17)*H13) | I19: =IF(I9="","",(I16-I15)*I12+(I18-I17)*I13) | J19: =IF(J9="","",(J16-J15)*J12+(J18-J17)*J13)
A20: E11. Jahresverbrauch (kWh/Jahr) | C20: =IF(C19="","",C19*365/($B18-$B15)) | D20: =IF(D19="","",D19*365/($B18-$B15)) | E20: =IF(E19="","",E19*365/($B18-$B15)) | F20: =IF(F19="","",F19*365/($B18-$B15)) | G20: =IF(G19="","",G19*365/($B18-$B15)) | H20: =IF(H19="","",H19*365/($B18-$B15)) | I20: =IF(I19="","",I19*365/($B18-$B15)) | J20: =IF(J19="","",J19*365/($B18-$B15))
A21: E12. Referenzverbrauch (kWh/Jahr) | C21: =IF(C9="","",'2. Referenzkosten'!C19) | D21: =IF(D9="","",'2. Referenzkosten'!D19) | E21: =IF(E9="","",'2. Referenzkosten'!E19) | F21: =IF(F9="","",'2. Referenzkosten'!F19) | G21: =IF(G9="","",'2. Referenzkosten'!G19) | H21: =IF(H9="","",'2. Referenzkosten'!H19) | I21: =IF(I9="","",'2. Referenzkosten'!I19) | J21: =IF(J9="","",'2. Referenzkosten'!J19)
A22: E13. Korrekturfaktor Gebäude/Nutzung | C22: =IF(C19="","",1) | D22: =IF(D19="","",1) | E22: =IF(E19="","",1) | F22: =IF(F19="","",1) | G22: =IF(G19="","",1) | H22: =IF(H19="","",1) | I22: =IF(I19="","",1) | J22: =IF(J19="","",1)
A23: E14. Verbrauchseinsparung (kWh/Jahr) | C23: =IF(C19="","",C21*C22-C20) | D23: =IF(D19="","",D21*D22-D20) | E23: =IF(E19="","",E21*E22-E20) | F23: =IF(F19="","",F21*F22-F20) | G23: =IF(G19="","",G21*G22-G20) | H23: =IF(H19="","",H21*H22-H20) | I23: =IF(I19="","",I21*I22-I20) | J23: =IF(J19="","",J21*J22-J20)
A24: ="E15. aktueller Bruttopreis ("&'1. Nutzung'!Währung&"/kWh)" -> E15. aktueller Bruttopreis (€/kWh) | C24: 0.3047 | D24: =IF(D19="","",$C24) | E24: =IF(E19="","",$C24) | F24: =IF(F19="","",$C24) | G24: =IF(G19="","",$C24) | H24: =IF(H19="","",$C24) | I24: =IF(I19="","",$C24) | J24: =IF(J19="","",$C24)
A25: ="E16. Kosteneinsparung ("&'1. Nutzung'!Währung&"/Jahr)" -> E16. Kosteneinsparung (€/Jahr) | C25: =IF(C19="","",C23*C24) | D25: =IF(D19="","",D23*D24) | E25: =IF(E19="","",E23*E24) | F25: =IF(F19="","",F23*F24) | G25: =IF(G19="","",G23*G24) | H25: =IF(H19="","",H23*H24) | I25: =IF(I19="","",I23*I24) | J25: =IF(J19="","",J23*J24)
A26: H. Heizenergie | C26: ='3. Monatsablesung'!E25 -> H.1.0.0 | D26: ='3. Monatsablesung'!F25 -> H.2.0.0 | E26: ='3. Monatsablesung'!G25 | F26: ='3. Monatsablesung'!H25 | G26: ='3. Monatsablesung'!I25 | H26: ='3. Monatsablesung'!J25 | I26: ='3. Monatsablesung'!K25 | J26: ='3. Monatsablesung'!L25
A27: H1. Zählernummer alt
A28: H2. Zählernummer neu | C28: =C27 -> 0 | D28: =D27 -> 0 | E28: =E27 -> 0 | F28: =F27 -> 0 | G28: =G27 -> 0 | H28: =H27 -> 0 | I28: =I27 -> 0 | J28: =J27 -> 0
A29: H3. Verbrauchsbereich (z.B. Turnhalle)
A30: H4. Multiplikator alt (kWh/Einheit) | C30: ='3. Monatsablesung'!E29 -> 10.55 | D30: ='3. Monatsablesung'!F29 -> 1 | E30: ='3. Monatsablesung'!G29 -> 1 | F30: ='3. Monatsablesung'!H29 -> 1 | G30: ='3. Monatsablesung'!I29 -> 1 | H30: ='3. Monatsablesung'!J29 -> 1 | I30: ='3. Monatsablesung'!K29 -> 1 | J30: ='3. Monatsablesung'!L29 -> 1
A31: H5. Multiplikator neu (kWh/Einheit) | C31: =C30 -> 10.55 | D31: =D30 -> 1 | E31: =E30 -> 1 | F31: =F30 -> 1 | G31: =G30 -> 1 | H31: =H30 -> 1 | I31: =I30 -> 1 | J31: =J30 -> 1
A32: Zählerablesungen: | B32: Datum | C32: Zählerstand | D32: Zählerstand | E32: Zählerstand | F32: Zählerstand | G32: Zählerstand | H32: Zählerstand | I32: Zählerstand | J32: Zählerstand
A33: H6. Beginn Ablesezeitraum | B33: =B7 -> 45658
A34: H7. Zählerwechsel: Zählerstand alt
A35: H8. Zählerstand neu
A36: H9. Ende Ablesezeitraum | B36: =D7 -> 46024
A37: H10. Verbrauch im Ablesezeitraum (kWh) | C37: =IF(C27="","",(C34-C33)*C30+(C36-C35)*C31) | D37: =IF(D27="","",(D34-D33)*D30+(D36-D35)*D31) | E37: =IF(E27="","",(E34-E33)*E30+(E36-E35)*E31) | F37: =IF(F27="","",(F34-F33)*F30+(F36-F35)*F31) | G37: =IF(G27="","",(G34-G33)*G30+(G36-G35)*G31) | H37: =IF(H27="","",(H34-H33)*H30+(H36-H35)*H31) | I37: =IF(I27="","",(I34-I33)*I30+(I36-I35)*I31) | J37: =IF(J27="","",(J34-J33)*J30+(J36-J35)*J31)
A38: H11. Jahresverbrauch (kWh/Jahr) | C38: =IF(C37="","",C37*365/($B36-$B33)) | D38: =IF(D37="","",D37*365/($B36-$B33)) | E38: =IF(E37="","",E37*365/($B36-$B33)) | F38: =IF(F37="","",F37*365/($B36-$B33)) | G38: =IF(G37="","",G37*365/($B36-$B33)) | H38: =IF(H37="","",H37*365/($B36-$B33)) | I38: =IF(I37="","",I37*365/($B36-$B33)) | J38: =IF(J37="","",J37*365/($B36-$B33))
A39: H12. Korrekturfaktor Wetter | C39: =0.15 + 0.85*3249*($B$36-$B$33)/($J$7*365) -> 1.140775 | D39: =IF(D37="","",0.15 + 0.85*3249*($B$36-$B$33)/($J$7*365)) | E39: =IF(E37="","",0.15 + 0.85*3249*($B$36-$B$33)/($J$7*365)) | F39: =IF(F37="","",0.15 + 0.85*3249*($B$36-$B$33)/($J$7*365)) | G39: =IF(G37="","",0.15 + 0.85*3249*($B$36-$B$33)/($J$7*365)) | H39: =IF(H37="","",0.15 + 0.85*3249*($B$36-$B$33)/($J$7*365)) | I39: =IF(I37="","",0.15 + 0.85*3249*($B$36-$B$33)/($J$7*365)) | J39: =IF(J37="","",0.15 + 0.85*3249*($B$36-$B$33)/($J$7*365))
A40: H13. Referenzverbrauch (kWh/Jahr) | C40: =IF(C37="","",'2. Referenzkosten'!C38) | D40: =IF(D37="","",'2. Referenzkosten'!D38) | E40: =IF(E37="","",'2. Referenzkosten'!E38) | F40: =IF(F37="","",'2. Referenzkosten'!F38) | G40: =IF(G37="","",'2. Referenzkosten'!G38) | H40: =IF(H37="","",'2. Referenzkosten'!H38) | I40: =IF(I37="","",'2. Referenzkosten'!I38) | J40: =IF(J37="","",'2. Referenzkosten'!J38)
A41: H14. Korrekturfaktor Gebäude/Nutzung | C41: =IF(C37="","",1) | D41: =IF(D37="","",1) | E41: =IF(E37="","",1) | F41: =IF(F37="","",1) | G41: =IF(G37="","",1) | H41: =IF(H37="","",1) | I41: =IF(I37="","",1) | J41: =IF(J37="","",1)
A42: H15. Verbrauchseinsparung (kWh/Jahr) | C42: =IF(C37="","",C40*C41-C38*C39) | D42: =IF(D37="","",D40*D41-D38*D39) | E42: =IF(E37="","",E40*E41-E38*E39) | F42: =IF(F37="","",F40*F41-F38*F39) | G42: =IF(G37="","",G40*G41-G38*G39) | H42: =IF(H37="","",H40*H41-H38*H39) | I42: =IF(I37="","",I40*I41-I38*I39) | J42: =IF(J37="","",J40*J41-J38*J39)
A43: ="H16. aktueller Bruttopreis ("&'1. Nutzung'!Währung&"/kWh)" -> H16. aktueller Bruttopreis (€/kWh) | C43: 0.1262 | D43: =IF(D38="","",$C43) | E43: =IF(E38="","",$C43) | F43: =IF(F38="","",$C43) | G43: =IF(G38="","",$C43) | H43: =IF(H38="","",$C43) | I43: =IF(I38="","",$C43) | J43: =IF(J38="","",$C43)
A44: ="H17. Kosteneinsparung ("&'1. Nutzung'!Währung&"/Jahr)" -> H17. Kosteneinsparung (€/Jahr) | C44: =IF(C38="","",C42*C43) | D44: =IF(D38="","",D42*D43) | E44: =IF(E38="","",E42*E43) | F44: =IF(F38="","",F42*F43) | G44: =IF(G38="","",G42*G43) | H44: =IF(H38="","",H42*H43) | I44: =IF(I38="","",I42*I43) | J44: =IF(J38="","",J42*J43)
A45: W. Wasser | C45: ='3. Monatsablesung'!E44 -> W.1.0.0 | D45: ='3. Monatsablesung'!F44 | E45: ='3. Monatsablesung'!G44 | F45: ='3. Monatsablesung'!H44 | G45: ='3. Monatsablesung'!I44 | H45: ='3. Monatsablesung'!J44 | I45: ='3. Monatsablesung'!K44 | J45: ='3. Monatsablesung'!L44
A46: W1. Zählernummer alt
A47: W2. Zählernummer neu | C47: =C46 -> 0 | D47: =D46 -> 0 | E47: =E46 -> 0 | F47: =F46 -> 0 | G47: =G46 -> 0 | H47: =H46 -> 0 | I47: =I46 -> 0 | J47: =J46 -> 0
A48: W3. Verbrauchsbereich (z.B. Kantine)
A49: Zählerablesungen: | B49: Datum | C49: Zählerstand | D49: Zählerstand | E49: Zählerstand | F49: Zählerstand | G49: Zählerstand | H49: Zählerstand | I49: Zählerstand | J49: Zählerstand
A50: W4. Beginn Ablesezeitraum | B50: =B7 -> 45658
A51: W5. Zählerwechsel: Zählerstand alt
A52: W6. Zählerstand neu
A53: W7. Ende Ablesezeitraum | B53: =D7 -> 46024
A54: W8. Verbrauch im Ablesezeitraum (m³) | C54: =IF(C46="","",(C51-C50)+(C53-C52)) | D54: =IF(D46="","",(D51-D50)+(D53-D52)) | E54: =IF(E46="","",(E51-E50)+(E53-E52)) | F54: =IF(F46="","",(F51-F50)+(F53-F52)) | G54: =IF(G46="","",(G51-G50)+(G53-G52)) | H54: =IF(H46="","",(H51-H50)+(H53-H52)) | I54: =IF(I46="","",(I51-I50)+(I53-I52)) | J54: =IF(J46="","",(J51-J50)+(J53-J52))
A55: W09. Jahresverbrauch (m³/Jahr) | C55: =IF(C54="","",C54*365/($B53-$B50)) | D55: =IF(D54="","",D54*365/($B53-$B50)) | E55: =IF(E54="","",E54*365/($B53-$B50)) | F55: =IF(F54="","",F54*365/($B53-$B50)) | G55: =IF(G54="","",G54*365/($B53-$B50)) | H55: =IF(H54="","",H54*365/($B53-$B50)) | I55: =IF(I54="","",I54*365/($B53-$B50)) | J55: =IF(J54="","",J54*365/($B53-$B50))
A56: W10. Referenzverbrauch (m³/Jahr) | C56: =IF(C54="","",'2. Referenzkosten'!C52) | D56: =IF(D54="","",'2. Referenzkosten'!D52) | E56: =IF(E54="","",'2. Referenzkosten'!E52) | F56: =IF(F54="","",'2. Referenzkosten'!F52) | G56: =IF(G54="","",'2. Referenzkosten'!G52) | H56: =IF(H54="","",'2. Referenzkosten'!H52) | I56: =IF(I54="","",'2. Referenzkosten'!I52) | J56: =IF(J54="","",'2. Referenzkosten'!J52)
A57: W11. Korrekturfaktor Gebäude/Nutzung | C57: =IF(C54="","",1) | D57: =IF(D54="","",1) | E57: =IF(E54="","",1) | F57: =IF(F54="","",1) | G57: =IF(G54="","",1) | H57: =IF(H54="","",1) | I57: =IF(I54="","",1) | J57: =IF(J54="","",1)
A58: W12. Verbrauchseinsparung (m³/Jahr) | C58: =IF(C54="","",C56*C57-C55) | D58: =IF(D54="","",D56*D57-D55) | E58: =IF(E54="","",E56*E57-E55) | F58: =IF(F54="","",F56*F57-F55) | G58: =IF(G54="","",G56*G57-G55) | H58: =IF(H54="","",H56*H57-H55) | I58: =IF(I54="","",I56*I57-I55) | J58: =IF(J54="","",J56*J57-J55)
A59: ="W13. aktueller Bruttopreis ("&'1. Nutzung'!Währung&"/m³)" -> W13. aktueller Bruttopreis (€/m³) | C59: 4.4 | D59: =IF(D54="","",$C59) | E59: =IF(E54="","",$C59) | F59: =IF(F54="","",$C59) | G59: =IF(G54="","",$C59) | H59: =IF(H54="","",$C59) | I59: =IF(I54="","",$C59) | J59: =IF(J54="","",$C59)
A60: ="W14. Kosteneinsparung ("&'1. Nutzung'!Währung&"/Jahr)" -> W14. Kosteneinsparung (€/Jahr) | C60: =IF(C54="","",C58*C59) | D60: =IF(D54="","",D58*D59) | E60: =IF(E54="","",E58*E59) | F60: =IF(F54="","",F58*F59) | G60: =IF(G54="","",G58*G59) | H60: =IF(H54="","",H58*H59) | I60: =IF(I54="","",I58*I59) | J60: =IF(J54="","",J58*J59)
A61: S. Summen | C61: Strom + | D61: Heizung + | E61: Wasser = | F61: Summe | G61: Prämien: | H61: Liegensch. | I61: Energiebea.
A62: S1. Verbrauchs-Einsparung (kWh/m³) | C62: =SUM(C23:J23) -> 0 | D62: =SUM(C42:J42) -> 0 | E62: =SUM(C58:J58) -> 0 | G62: FALSE | H62: 0.25 | I62: 0.25
A63: ="S2. Kosten-Einsparung ("&'1. Nutzung'!Währung&"/Jahr)" -> S2. Kosten-Einsparung (€/Jahr) | C63: =SUM(C25:J25) -> 0 | D63: =SUM(C44:J44) -> 0 | E63: =SUM(C60:J60) -> 0 | F63: =C63+D63+E63 -> 0 | G63: FALSE | H63: =IF(F63>500,F63*0.25,0) -> 0 | I63: =IF(F63>500,F63*0.25,0) -> 0
A65: ="KG. Kosten Gesamt ("&'1. Nutzung'!Währung&"/Jahr)" -> KG. Kosten Gesamt (€/Jahr) | C65: bereinigte Referenzkosten gesamt | F65: =SUMPRODUCT(C21:J21,C22:J22,C24:J24)+SUMPRODUCT(C40:J40,C41:J41,C43:J43)+SUMPRODUCT(C56:J56,C57:J57,C59:J59) -> 0 | G65: Verbrauchskosten gesamt | J65: =SUMPRODUCT(C20:J20,C24:J24)+SUMPRODUCT(C38:J38,C39:J39,C43:J43)+SUMPRODUCT(C55:J55,C59:J59) -> 0
A67: G. Gradtagszahlen (Kd) | F67: GTZ korr. | G67: =G3 -> 45658 | H67: =G67 -> 45658 | I67: =H67+365-30 -> 45993 | J67: =G67+365+1 -> 46024
A68: =CONCATENATE("GTZ -korr.: ",ROUND(G68,0)," - ",ROUND(H68,0)," / 31 * ",ROUND(B33-G3,0)," + ",ROUND((IF(J67<=B36,J68,I68)),0)," / 31 * (",(B36-G3-365),") = ",ROUND(F68,0)) -> GTZ -korr.: 2778 - 545 / 31 * 0 + 519 / 31 * (1) = 2795 | F68: =ROUND(G68-H68/31*(B33-G3)+(IF(J67<=B36,J68,I68))/31*(B36-G3-365),0) -> 2795 | G68: 2778 | H68: 544.7 | I68: 511.6 | J68: 519
A69: sachlich u. rechnerisch richtig
A71: Oliver Seidel
A72: (Amt für Bau und Immobilien)

Sheet AbrechnungEVUxxxx
A1: EVU-Daten - 2025
B5: Datum | D5: Strom 2025
B6: Von | C6: bis | D6: HT | E6: NT | F6: Zählernr.
B7: - | C7: - | D7: kWh | E7: kWh | F7: -
B8: 45992 | C8: 46022
B9: 45962 | C9: 45991
B10: 45931 | C10: 45961
B11: 45901 | C11: 45930
B12: 45870 | C12: 45900
B13: 45839 | C13: 45869
B14: 45809 | C14: 45838
B15: 45778 | C15: 45808
B16: 45748 | C16: 45412
B17: 45717 | C17: 45747
B18: 45689 | C18: 45716
B19: 45658 | C19: 45688
B20: Summe | D20: =SUM(D8:D19) -> 0 | E20: =SUM(E8:E19) -> 0
B23: Datum | D23: Erdgas 2025
B24: Von | C24: bis | D24: Verbauch | E24: Brennwert | F24: Zustandszahl | G24: Gasverbrauch | H24: Zählernr.
B25: - | C25: - | D25: kWh | E25: kWh/mN³ | F25: - | G25: mB³ | H25: -
B26: =B8 -> 45992 | C26: =C8 -> 46022 | G26: =D26/(E26*F26) -> #DIV/0!
B27: =B9 -> 45962 | C27: =C9 -> 45991 | G27: =D27/(E27*F27) -> #DIV/0!
B28: =B10 -> 45931 | C28: =C10 -> 45961 | G28: =D28/(E28*F28) -> #DIV/0!
B29: =B11 -> 45901 | C29: =C11 -> 45930 | G29: =D29/(E29*F29) -> #DIV/0!
B30: =B12 -> 45870 | C30: =C12 -> 45900 | G30: =D30/(E30*F30) -> #DIV/0!
B31: =B13 -> 45839 | C31: =C13 -> 45869 | G31: =D31/(E31*F31) -> #DIV/0!
B32: =B14 -> 45809 | C32: =C14 -> 45838 | G32: =D32/(E32*F32) -> #DIV/0!
B33: =B15 -> 45778 | C33: =C15 -> 45808 | G33: =D33/(E33*F33) -> #DIV/0!
B34: =B16 -> 45748 | C34: =C16 -> 45412 | G34: =D34/(E34*F34) -> #DIV/0!
B35: =B17 -> 45717 | C35: =C17 -> 45747 | G35: =D35/(E35*F35) -> #DIV/0!
B36: =B18 -> 45689 | C36: =C18 -> 45716 | G36: =D36/(E36*F36) -> #DIV/0!
B37: =B19 -> 45658 | C37: =C19 -> 45688 | G37: =D37/(E37*F37) -> #DIV/0!
B38: Summe | D38: =SUM(D26:D37) -> 0 | G38: =SUM(G26:G37) -> #DIV/0!
