Workbook
Name Währung: '1. Nutzung'!$K$6

Sheet 1. Nutzung
A1: Über liegenschaftsverwaltendes Amt an 25.65
A2: Eingabefelder: weiß, Rechenfelder: grau | H2: Quelle: energiemanagement.stadt-frankfurt.de
A3: 1. Festlegung der Nutzungsbedingungen
A4: Liegenschaft | H4: Energiebeauftragte(r)
A5: Straße, Nr. | H5: Telefon
A6: Nutzungs-Zeitraum von | E6: bis | H6: Währung | K6: €
A7: G. Gebäude/Gebäudeteile | I7: BWZ | J7: BRF | K7: NRF | L7: Raum-
E8: Gebäude | G8: Gebäudeteil | J8: (m²) | K8: (m²) | L8: höhe (m)
A9: BWZ: Bauwerkszuordnung (s. Tab.) | D9: G1 | E9: Schulgebäude | K9: 2537
A10: Die Fläche kann brutto (BRF) o. | D10: G2 | E10: Turnhalle | K10: 648
A11: netto (NRF) angegeben werden | D11: G3 | E11: Pavillon | K11: 168
A12: BGF: Länge x Breite x Geschosszahl | D12: G4
A13: (Außenmaße des Gebäudeteils) | D13: G5
A14: NGF: Summe der Flächen aller Räume | D14: G6
A15: (incl. Flure, Treppenhäuser) | D15: G7
A16: Raumhöhe: mittlere lichte Höhe | D16: G8
A17: bei mehr als 8 Gebäudeteilen bitte ein weiteres Blatt verwenden | I17: Summe: | J17: =SUM(J9:J16) -> 0 | K17: =SUM(K9:K16) -> 3353
A18: N. Nutzung | E18: G1 | F18: G2 | G18: G3 | H18: G4 | I18: G5 | J18: G6 | K18: G7 | L18: G8
A19: N1. Bauwerkszuordnung (BWZ)
A20: N2. Personenzahl während der Nutzung
A21: N3. Anzahl PC-Arbeitsplätze
A22: N4. Nutzung (Stunden/Tag)
A23: N5. Nutzung (Tage/Woche)
A24: N6. Nutzung (Wochen/Jahr)
A25: K. Heizung/Lüftung/Klima | E25: G1 | F25: G2 | G25: G3 | H25: G4 | I25: G5 | J25: G6 | K25: G7 | L25: G8
A26: K1. Solltemperatur Heizbetrieb (°C)
A27: K2. Soll-Außenluftwechsel (m³/Stunde)
A28: nur bei Klimatisierung:
A29: K3. Solltemperatur Kühlbetrieb (°C)
A30: K4. Sollfeuchte (%)
A31: B. Beleuchtung | E31: G1 | F31: G2 | G31: G3 | H31: G4 | I31: G5 | J31: G6 | K31: G7 | L31: G8
A32: B1. Soll-Beleuchtung Nutzfläche (lux)
A33: B2. Soll-Beleuchtung Flure,Treppen (lux)
A35: sachlich richtig: | F35: gesehen: | I35: aufgestellt:
A38: (Amt für Bau und Immobilien) | F38: (Liegenschaftsleitung) | I38: (Energiebeauftragte(r))
A40: Bauwerkszuordnung | C40: BWZ | D40: Zulässige Raumkonditionen nach AMEV* | I40: Nennbeleuchtungsstärke nach DIN 5035
A41: Verwaltungsgebäude | C41: 1300 | D41: Solltemperaturen Heizbetrieb | H41: °C | I41: Unterrichtsstätten | L41: lux
A42: Allgemeinbildende Schulen | C42: 4100 | D42: Verwaltungsgebäude | I42: Außenanlagen
A43: Grundschulen | C43: 4110 | D43: - während der Nutzung | H43: 20 | I43: Überdachter Pausenbereich | L43: 50
A44: Grundschule m. Förderstufe | C44: 4111 | D44: - bei Nutzungsbeginn | H44: 19 | I44: Überdachte Fahrradstände | L44: 20
...

Sheet 2. Referenzkosten
A1: Über liegenschaftsverwaltendes Amt an 25.65
F2: Quelle: energiemanagement.stadt-frankfurt.de
A3: 2. Berechnung der Referenzverbräuche und -kosten
A4: Liegenschaft | B4: =IF('1. Nutzung'!C4="","",'1. Nutzung'!C4) | F4: Energiebeauftragte(r) | I4: =IF('1. Nutzung'!K4="","",'1. Nutzung'!K4)
A5: Straße, Nr. | B5: =IF('1. Nutzung'!C5="","",'1. Nutzung'!C5) | F5: Telefon | I5: =IF('1. Nutzung'!K5="","",'1. Nutzung'!K5)
A6: Ablese-Zeitraum von | B6: 44927 | C6: bis | D6: 46023 | E6: = | F6: =B15-B14+B17-B16 -> 1096 | G6: Tage mit | H6: Gradtagzahl (Kd/a) | J6: =SUM(M7:O7) -> 8558 | L6: Jahr | M6: 2019 | N6: 2022 | O6: 2023
A7: E. Elektrischer Strom | C7: E.1.0.0-HT | D7: E.1.0.0-NT | L7: GTZ | M7: 3007 | N7: 2831 | O7: 2720
A8: E1. Zählernummer alt
A9: E2. Zählernummer neu
A10: E4. Verbrauchsbereich (z.B. Turnhalle)
A11: E5. Multiplikator alt (kWh/Einheit) | C11: 1 | D11: 1 | E11: 1 | F11: 1 | G11: 1 | H11: 1 | I11: 1 | J11: 1
A12: E6. Multiplikator neu (kWh/Einheit) | C12: =C11 -> 1 | D12: =D11 -> 1 | E12: =E11 -> 1 | F12: =F11 -> 1 | G12: =G11 -> 1 | H12: =H11 -> 1 | I12: =I11 -> 1 | J12: =J11 -> 1
A13: Zählerablesungen: | B13: Datum | C13: Zählerstand | D13: Zählerstand | E13: Zählerstand | F13: Zählerstand | G13: Zählerstand | H13: Zählerstand | I13: Zählerstand | J13: Zählerstand
A14: E7. Beginn Ablesezeitraum 1 | B14: =B6 -> 44927
A15: E8. Ende Ablesezeitraum 1
A16: E9. Beginn Ablesezeitraum 2
A17: E10. Ende Ablesezeitraum 2 | B17: =D6 -> 46023
A18: E11. Verbrauch im Ablesezeitraum (kWh) | C18: =(C15-C14)*C11+(C17-C16)*C12 -> 0 | D18: =(D15-D14)*D11+(D17-D16)*D12 -> 0 | E18: =(E15-E14)*E11+(E17-E16)*E12 -> 0 | F18: =(F15-F14)*F11+(F17-F16)*F12 -> 0 | G18: =(G15-G14)*G11+(G17-G16)*G12 -> 0 | H18: =(H15-H14)*H11+(H17-H16)*H12 -> 0 | I18: =(I15-I14)*I11+(I17-I16)*I12 -> 0 | J18: =(J15-J14)*J11+(J17-J16)*J12 -> 0
A19: E14. Referenzverbrauch (kWh/Jahr) | C19: =C18/$F$6*365 -> 0 | D19: =D18/$F$6*365 -> 0 | E19: =E18/$F$6*365 -> 0 | F19: =F18/$F$6*365 -> 0 | G19: =G18/$F$6*365 -> 0 | H19: =H18/$F$6*365 -> 0 | I19: =I18/$F$6*365 -> 0 | J19: =J18/$F$6*365 -> 0
A20: E15. EVU und Tarifart
A21: ="E16. Referenz-Bruttopreis ("&'1. Nutzung'!Währung&"/kWh)" -> E16. Referenz-Bruttopreis (€/kWh) | C21: 0.2324 | D21: =C21 -> 0.2324 | E21: =D21 -> 0.2324 | F21: =E21 -> 0.2324 | G21: =F21 -> 0.2324 | H21: =G21 -> 0.2324 | I21: =H21 -> 0.2324 | J21: =I21 -> 0.2324
A22: ="E17. Referenzkosten ("&'1. Nutzung'!Währung&"/Jahr)" -> E17. Referenzkosten (€/Jahr) | C22: =C19*C21 -> 0 | D22: =D19*D21 -> 0 | E22: =E19*E21 -> 0 | F22: =F19*F21 -> 0 | G22: =G19*G21 -> 0 | H22: =H19*H21 -> 0 | I22: =I19*I21 -> 0 | J22: =J19*J21 -> 0
A23: H. Heizenergie | C23: H.1.0.0 | D23: H.2.0.0
A24: H1. Zählernummer alt
A25: H2. Zählernummer neu
A26: H3. Verbrauchsart (z.B. Gas, Öl, Strom)
A27: H4. Verbrauchsbereich (z.B. Turnhalle)
A28: H5. Multiplikator alt (kWh/Einheit) | C28: 10.55 | D28: 1 | E28: 1 | F28: 1 | G28: 1 | H28: 1 | I28: 1 | J28: 1
A29: H6. Multiplikator neu (kWh/Einheit) | C29: 10.55 | D29: =D28 -> 1 | E29: =E28 -> 1 | F29: =F28 -> 1 | G29: =G28 -> 1 | H29: =H28 -> 1 | I29: =I28 -> 1 | J29: =J28 -> 1
A30: Zählerablesungen: | B30: Datum | C30: Zählerstand | D30: Zählerstand | E30: Zählerstand | F30: Zählerstand | G30: Zählerstand | H30: Zählerstand | I30: Zählerstand | J30: Zählerstand
A31: H7. Beginn Ablesezeitraum 1 | B31: =B6 -> 44927
A32: H8. Ende Ablesezeitraum 1
A33: H9. Beginn Ablesezeitraum 2
A34: H10. Ende Ablesezeitraum 2 | B34: =D6 -> 46023
A35: H11. Verbrauch im Ablesezeitraum (kWh) | C35: =(C32-C31)*C28+(C34-C33)*C29 -> 0 | D35: =(D32-D31)*D28+(D34-D33)*D29 -> 0 | E35: =(E32-E31)*E28+(E34-E33)*E29 -> 0 | F35: =(F32-F31)*F28+(F34-F33)*F29 -> 0 | G35: =(G32-G31)*G28+(G34-G33)*G29 -> 0 | H35: =(H32-H31)*H28+(H34-H33)*H29 -> 0 | I35: =(I32-I31)*I28+(I34-I33)*I29 -> 0 | J35: =(J32-J31)*J28+(J34-J33)*J29 -> 0
A36: H12. Jahresverbrauch (kWh/Jahr) | C36: =C35/$F$6*365 -> 0 | D36: =D35/$F$6*365 -> 0 | E36: =E35/$F$6*365 -> 0 | F36: =F35/$F$6*365 -> 0 | G36: =G35/$F$6*365 -> 0 | H36: =H35/$F$6*365 -> 0 | I36: =I35/$F$6*365 -> 0 | J36: =J35/$F$6*365 -> 0
A37: H13. Korrekturfaktor Wetter | C37: =0.15 + 0.85*3249*$F$6/($J$6*365) -> 1.1189783 | D37: =0.15 + 0.85*3249*$F$6/($J$6*365) -> 1.1189783 | E37: =0.15 + 0.85*3249*$F$6/($J$6*365) -> 1.1189783 | F37: =0.15 + 0.85*3249*$F$6/($J$6*365) -> 1.1189783 | G37: =0.15 + 0.85*3249*$F$6/($J$6*365) -> 1.1189783 | H37: =0.15 + 0.85*3249*$F$6/($J$6*365) -> 1.1189783 | I37: =0.15 + 0.85*3249*$F$6/($J$6*365) -> 1.1189783 | J37: =0.15 + 0.85*3249*$F$6/($J$6*365) -> 1.1189783
A38: H14. Referenzverbrauch (kWh/Jahr) | C38: =C36*C37 -> 0 | D38: =D36*D37 -> 0 | E38: =E36*E37 -> 0 | F38: =F36*F37 -> 0 | G38: =G36*G37 -> 0 | H38: =H36*H37 -> 0 | I38: =I36*I37 -> 0 | J38: =J36*J37 -> 0
A39: H15. EVU und Tarifart
A40: ="H16. Referenz-Bruttopreis ("&'1. Nutzung'!Währung&"/kWh)" -> H16. Referenz-Bruttopreis (€/kWh) | C40: 0.0516 | D40: =C40 -> 0.0516 | E40: =D40 -> 0.0516 | F40: =E40 -> 0.0516 | G40: =F40 -> 0.0516 | H40: =G40 -> 0.0516 | I40: =H40 -> 0.0516 | J40: =I40 -> 0.0516
...

Sheet 3. Monatsablesung
A1: An 25.65
H2: Quelle: energiemanagement.stadt-frankfurt.de
A3: ="3. Monatsablesung der Zählerstände "&YEAR(D6) -> 3. Monatsablesung der Zählerstände 2026
A4: Liegenschaft | D4: =IF('1. Nutzung'!C4="","",'1. Nutzung'!C4) | H4: Energiebeauftragte(r) | K4: =IF('1. Nutzung'!K4="","",'1. Nutzung'!K4)
A5: Straße, Nr. | D5: =IF('1. Nutzung'!C5="","",'1. Nutzung'!C5) | H5: Telefon | K5: =IF('1. Nutzung'!K5="","",'1. Nutzung'!K5)
A6: Ablese-Zeitraum von | D6: 46023 | E6: bis | F6: =D6+365 -> 46388
A7: E. Elektrischer Strom | E7: =IF('2. Referenzkosten'!C7="","",'2. Referenzkosten'!C7) -> E.1.0.0-HT | F7: =IF('2. Referenzkosten'!D7="","",'2. Referenzkosten'!D7) -> E.1.0.0-NT | G7: =IF('2. Referenzkosten'!E7="","",'2. Referenzkosten'!E7) | H7: =IF('2. Referenzkosten'!F7="","",'2. Referenzkosten'!F7) | I7: =IF('2. Referenzkosten'!G7="","",'2. Referenzkosten'!G7) | J7: =IF('2. Referenzkosten'!H7="","",'2. Referenzkosten'!H7) | K7: =IF('2. Referenzkosten'!I7="","",'2. Referenzkosten'!I7) | L7: =IF('2. Referenzkosten'!J7="","",'2. Referenzkosten'!J7)
A8: E1. Zählernummer | E8: =IF('2. Referenzkosten'!C9="","",'2. Referenzkosten'!C9) | F8: =IF('2. Referenzkosten'!D9="","",'2. Referenzkosten'!D9) | G8: =IF('2. Referenzkosten'!E9="","",'2. Referenzkosten'!E9) | H8: =IF('2. Referenzkosten'!F9="","",'2. Referenzkosten'!F9) | I8: =IF('2. Referenzkosten'!G9="","",'2. Referenzkosten'!G9) | J8: =IF('2. Referenzkosten'!H9="","",'2. Referenzkosten'!H9) | K8: =IF('2. Referenzkosten'!I9="","",'2. Referenzkosten'!I9) | L8: =IF('2. Referenzkosten'!J9="","",'2. Referenzkosten'!J9)
A9: E4. Verbrauchsber. (z.B. Turnh.) | E9: =IF('2. Referenzkosten'!C10="","",'2. Referenzkosten'!C10) | F9: =IF('2. Referenzkosten'!D10="","",'2. Referenzkosten'!D10) | G9: =IF('2. Referenzkosten'!E10="","",'2. Referenzkosten'!E10) | H9: =IF('2. Referenzkosten'!F10="","",'2. Referenzkosten'!F10) | I9: =IF('2. Referenzkosten'!G10="","",'2. Referenzkosten'!G10) | J9: =IF('2. Referenzkosten'!H10="","",'2. Referenzkosten'!H10) | K9: =IF('2. Referenzkosten'!I10="","",'2. Referenzkosten'!I10) | L9: =IF('2. Referenzkosten'!J10="","",'2. Referenzkosten'!J10)
A10: E5. Multiplikator (kWh/Einheit) | E10: =IF('2. Referenzkosten'!C12="","",'2. Referenzkosten'!C12) -> 1 | F10: =IF('2. Referenzkosten'!D12="","",'2. Referenzkosten'!D12) -> 1 | G10: =IF('2. Referenzkosten'!E12="","",'2. Referenzkosten'!E12) -> 1 | H10: =IF('2. Referenzkosten'!F12="","",'2. Referenzkosten'!F12) -> 1 | I10: =IF('2. Referenzkosten'!G12="","",'2. Referenzkosten'!G12) -> 1 | J10: =IF('2. Referenzkosten'!H12="","",'2. Referenzkosten'!H12) -> 1 | K10: =IF('2. Referenzkosten'!I12="","",'2. Referenzkosten'!I12) -> 1 | L10: =IF('2. Referenzkosten'!J12="","",'2. Referenzkosten'!J12) -> 1
A11: Soll-Dat. | B11: Ist-Dat, Bemerkungen | E11: Zählerstand | F11: Zählerstand | G11: Zählerstand | H11: Zählerstand | I11: Zählerstand | J11: Zählerstand | K11: Zählerstand | L11: Zählerstand
A12: 01.01. | B12: =$D$6 -> 46023 | D12: Kopie an 25.65 | E12: 0 | F12: 0 | G12: 0 | H12: 0 | I12: 0 | J12: 0 | K12: 0 | L12: 0
A13: 01.02.
A14: 01.03.
A15: 01.04. | D15: Kopie an 25.65
A16: 01.05.
A17: 01.06.
A18: 01.07. | D18: Kopie an 25.65
A19: 01.08.
A20: 01.09.
A21: 01.10. | D21: Kopie an 25.65
A22: 01.11.
A23: 01.12.
A24: 01.01. | B24: =$F$6 -> 46388 | D24: Kopie an 25.65 | E24: 0 | F24: 0 | G24: 0 | H24: 0 | I24: 0 | J24: 0 | K24: 0 | L24: 0
A25: H. Heizenergie | E25: =IF('2. Referenzkosten'!C23="","",'2. Referenzkosten'!C23) -> H.1.0.0 | F25: =IF('2. Referenzkosten'!D23="","",'2. Referenzkosten'!D23) -> H.2.0.0 | G25: =IF('2. Referenzkosten'!E23="","",'2. Referenzkosten'!E23) | H25: =IF('2. Referenzkosten'!F23="","",'2. Referenzkosten'!F23) | I25: =IF('2. Referenzkosten'!G23="","",'2. Referenzkosten'!G23) | J25: =IF('2. Referenzkosten'!H23="","",'2. Referenzkosten'!H23) | K25: =IF('2. Referenzkosten'!I23="","",'2. Referenzkosten'!I23) | L25: =IF('2. Referenzkosten'!J23="","",'2. Referenzkosten'!J23)
A26: H1. Zählernummer | E26: =IF('2. Referenzkosten'!C25="","",'2. Referenzkosten'!C25) | F26: =IF('2. Referenzkosten'!D25="","",'2. Referenzkosten'!D25) | G26: =IF('2. Referenzkosten'!E25="","",'2. Referenzkosten'!E25) | H26: =IF('2. Referenzkosten'!F25="","",'2. Referenzkosten'!F25) | I26: =IF('2. Referenzkosten'!G25="","",'2. Referenzkosten'!G25) | J26: =IF('2. Referenzkosten'!H25="","",'2. Referenzkosten'!H25) | K26: =IF('2. Referenzkosten'!I25="","",'2. Referenzkosten'!I25) | L26: =IF('2. Referenzkosten'!J25="","",'2. Referenzkosten'!J25)
A27: H3. Verbrauchsart (z.B. Gas, Öl) | E27: =IF('2. Referenzkosten'!C26="","",'2. Referenzkosten'!C26) | F27: =IF('2. Referenzkosten'!D26="","",'2. Referenzkosten'!D26) | G27: =IF('2. Referenzkosten'!E26="","",'2. Referenzkosten'!E26) | H27: =IF('2. Referenzkosten'!F26="","",'2. Referenzkosten'!F26) | I27: =IF('2. Referenzkosten'!G26="","",'2. Referenzkosten'!G26) | J27: =IF('2. Referenzkosten'!H26="","",'2. Referenzkosten'!H26) | K27: =IF('2. Referenzkosten'!I26="","",'2. Referenzkosten'!I26) | L27: =IF('2. Referenzkosten'!J26="","",'2. Referenzkosten'!J26)
A28: H4. Verbrauchsbereich (z.B. Turnhalle) | E28: =IF('2. Referenzkosten'!C27="","",'2. Referenzkosten'!C27) | F28: =IF('2. Referenzkosten'!D27="","",'2. Referenzkosten'!D27) | G28: =IF('2. Referenzkosten'!E27="","",'2. Referenzkosten'!E27) | H28: =IF('2. Referenzkosten'!F27="","",'2. Referenzkosten'!F27) | I28: =IF('2. Referenzkosten'!G27="","",'2. Referenzkosten'!G27) | J28: =IF('2. Referenzkosten'!H27="","",'2. Referenzkosten'!H27) | K28: =IF('2. Referenzkosten'!I27="","",'2. Referenzkosten'!I27) | L28: =IF('2. Referenzkosten'!J27="","",'2. Referenzkosten'!J27)
A29: H5. Multiplikator (kWh/Einheit) | E29: =IF('2. Referenzkosten'!C29="","",'2. Referenzkosten'!C29) -> 10.55 | F29: =IF('2. Referenzkosten'!D29="","",'2. Referenzkosten'!D29) -> 1 | G29: =IF('2. Referenzkosten'!E29="","",'2. Referenzkosten'!E29) -> 1 | H29: =IF('2. Referenzkosten'!F29="","",'2. Referenzkosten'!F29) -> 1 | I29: =IF('2. Referenzkosten'!G29="","",'2. Referenzkosten'!G29) -> 1 | J29: =IF('2. Referenzkosten'!H29="","",'2. Referenzkosten'!H29) -> 1 | K29: =IF('2. Referenzkosten'!I29="","",'2. Referenzkosten'!I29) -> 1 | L29: =IF('2. Referenzkosten'!J29="","",'2. Referenzkosten'!J29) -> 1
A30: Soll-Dat. | B30: Ist-Dat, Bemerkungen | E30: Zählerstand | F30: Zählerstand | G30: Zählerstand | H30: Zählerstand | I30: Zählerstand | J30: Zählerstand | K30: Zählerstand | L30: Zählerstand
A31: 01.01. | B31: =$D$6 -> 46023 | D31: Kopie an 25.65 | E31: 0 | F31: 0 | G31: 0 | H31: 0 | I31: 0 | J31: 0 | K31: 0 | L31: 0
A32: 01.02.
A33: 01.03.
A34: 01.04. | D34: Kopie an 25.65
A35: 01.05.
A36: 01.06.
A37: 01.07. | D37: Kopie an 25.65
A38: 01.08.
A39: 01.09.
A40: 01.10. | D40: Kopie an 25.65
...

Sheet 4A. Nachweis - Meldung 1
A1: An 25.65
F2: Quelle: energiemanagement.stadt-frankfurt.de
A3: 4A. Nachweis der eingesparten Energie- u. Wasserkosten | G3: 45658 | H3: Nettogrundfläche = | J3: s. Blatt 1
A4: Blatt A - Meldung der Zählerwerte und Änderungen in Nutzung und Gebäudesubstanz
A5: Liegenschaft | F5: Energiebeauftragte(r) | I5: =""
A6: Straße, Nr. | F6: Telefon | I6: =""
A7: Ablese-Zeitraum von | C7: bis | F7: ="Schüler-/ Nutzer Anzahl Herbst "&YEAR(G3) -> Schüler-/ Nutzer Anzahl Herbst 2025
A8: E. Elektrischer Strom | C8: ='3. Monatsablesung'!E7 -> E.1.0.0-HT | D8: ='3. Monatsablesung'!F7 -> E.1.0.0-NT | E8: ='3. Monatsablesung'!G7 | F8: ='3. Monatsablesung'!H7 | G8: ='3. Monatsablesung'!I7 | H8: ='3. Monatsablesung'!J7 | I8: ='3. Monatsablesung'!K7 | J8: ='3. Monatsablesung'!L7
A9: E1. Zählernummer alt
A10: E2. Zählernummer neu
A11: E3. Verbrauchsbereich (z.B. Schule)
A12: E4. Multiplikator alt (kWh/Einheit)
A13: E5. Multiplikator neu (kWh/Einheit) | C13: ='3. Monatsablesung'!E10 -> 1 | D13: ='3. Monatsablesung'!F10 -> 1 | E13: ='3. Monatsablesung'!G10 -> 1 | F13: ='3. Monatsablesung'!H10 -> 1 | G13: ='3. Monatsablesung'!I10 -> 1 | H13: ='3. Monatsablesung'!J10 -> 1 | I13: ='3. Monatsablesung'!K10 -> 1 | J13: ='3. Monatsablesung'!L10 -> 1
A14: Zählerablesungen: | B14: Datum | C14: Zählerstand | D14: Zählerstand | E14: Zählerstand | F14: Zählerstand | G14: Zählerstand | H14: Zählerstand | I14: Zählerstand | J14: Zählerstand
A15: E6. Beginn Ablesezeitraum
A16: E7. Zählerwechsel: Zählerstand alt
A17: E8. Zählerstand neu
A18: E9. Ende Ablesezeitraum
A19: E10. Verbrauch im Ablesezeitraum (kWh) | C19: =IF(C9="","",(C16-C15)*C12+(C18-C17)*C13) | D19: =IF(D9="","",(D16-D15)*D12+(D18-D17)*D13) | E19: =IF(E9="","",(E16-E15)*E12+(E18-E17)*E13) | F19: =IF(F9="","",(F16-F15)*F12+(F18-F17)*F13) | G19: =IF(G9="","",(G16-G15)*G12+(G18-G17)*G13) | H19: =IF(H9="","",(H16-H15)*H12+(H18-H17)*H13) | I19: =IF(I9="","",(I16-I15)*I12+(I18-I17)*I13) | J19: =IF(J9="","",(J16-J15)*J12+(J18-J17)*J13)
A20: H. Heizenergie | C20: ='3. Monatsablesung'!E25 -> H.1.0.0 | D20: ='3. Monatsablesung'!F25 -> H.2.0.0 | E20: ='3. Monatsablesung'!G25 | F20: ='3. Monatsablesung'!H25 | G20: ='3. Monatsablesung'!I25 | H20: ='3. Monatsablesung'!J25 | I20: ='3. Monatsablesung'!K25 | J20: ='3. Monatsablesung'!L25
A21: H1. Zählernummer alt
A22: H2. Zählernummer neu | C22: =C21 -> 0 | D22: =D21 -> 0 | E22: =E21 -> 0 | F22: =F21 -> 0 | G22: =G21 -> 0 | H22: =H21 -> 0 | I22: =I21 -> 0 | J22: =J21 -> 0
A23: H3. Verbrauchsbereich (z.B. Turnhalle)
A24: H4. Multiplikator alt (kWh/Einheit) | C24: ='3. Monatsablesung'!E29 -> 10.55 | D24: ='3. Monatsablesung'!F29 -> 1 | E24: ='3. Monatsablesung'!G29 -> 1 | F24: ='3. Monatsablesung'!H29 -> 1 | G24: ='3. Monatsablesung'!I29 -> 1 | H24: ='3. Monatsablesung'!J29 -> 1 | I24: ='3. Monatsablesung'!K29 -> 1 | J24: ='3. Monatsablesung'!L29 -> 1
A25: H5. Multiplikator neu (kWh/Einheit) | C25: =C24 -> 10.55 | D25: =D24 -> 1 | E25: =E24 -> 1 | F25: =F24 -> 1 | G25: =G24 -> 1 | H25: =H24 -> 1 | I25: =I24 -> 1 | J25: =J24 -> 1
A26: Zählerablesungen: | B26: Datum | C26: Zählerstand | D26: Zählerstand | E26: Zählerstand | F26: Zählerstand | G26: Zählerstand | H26: Zählerstand | I26: Zählerstand | J26: Zählerstand
A27: H6. Beginn Ablesezeitraum
A28: H7. Zählerwechsel: Zählerstand alt
A29: H8. Zählerstand neu
A30: H9. Ende Ablesezeitraum
A31: H10. Verbrauch im Ablesezeitraum (kWh) | C31: =IF(C21="","",(C28-C27)*C24+(C30-C29)*C25) | D31: =IF(D21="","",(D28-D27)*D24+(D30-D29)*D25) | E31: =IF(E21="","",(E28-E27)*E24+(E30-E29)*E25) | F31: =IF(F21="","",(F28-F27)*F24+(F30-F29)*F25) | G31: =IF(G21="","",(G28-G27)*G24+(G30-G29)*G25) | H31: =IF(H21="","",(H28-H27)*H24+(H30-H29)*H25) | I31: =IF(I21="","",(I28-I27)*I24+(I30-I29)*I25) | J31: =IF(J21="","",(J28-J27)*J24+(J30-J29)*J25)
A32: W. Wasser | C32: ='3. Monatsablesung'!E44 -> W.1.0.0 | D32: ='3. Monatsablesung'!F44 | E32: ='3. Monatsablesung'!G44 | F32: ='3. Monatsablesung'!H44 | G32: ='3. Monatsablesung'!I44 | H32: ='3. Monatsablesung'!J44 | I32: ='3. Monatsablesung'!K44 | J32: ='3. Monatsablesung'!L44
A33: W1. Zählernummer alt
A34: W2. Zählernummer neu | C34: =C33 -> 0 | D34: =D33 -> 0 | E34: =E33 -> 0 | F34: =F33 -> 0 | G34: =G33 -> 0 | H34: =H33 -> 0 | I34: =I33 -> 0 | J34: =J33 -> 0
A35: W3. Verbrauchsbereich (z.B. Kantine)
A36: Zählerablesungen: | B36: Datum | C36: Zählerstand | D36: Zählerstand | E36: Zählerstand | F36: Zählerstand | G36: Zählerstand | H36: Zählerstand | I36: Zählerstand | J36: Zählerstand
A37: W4. Beginn Ablesezeitraum
A38: W5. Zählerwechsel: Zählerstand alt
A39: W6. Zählerstand neu
A40: W7. Ende Ablesezeitraum
...

Sheet 4B. Nachweis - Meldung 2
A1: An 25.65
F2: Quelle: energiemanagement.stadt-frankfurt.de
A3: 4B. Nachweis der eingesparten Energie- u. Wasserkosten | G3: 45658 | H3: Nettogrundfläche = | J3: s. Blatt 1
A4: Blatt B - Meldung der Änderungen in Nutzung und Gebäudesubstanz, weitere Änderungen
A5: Liegenschaft | F5: Energiebeauftragte(r) | I5: =""
A6: Straße, Nr. | F6: Telefon | I6: =""
A7: Ablese-Zeitraum von | C7: bis | F7: ="Schüler-/ Nutzer Anzahl Herbst "&YEAR(G3) -> Schüler-/ Nutzer Anzahl Herbst 2025
A8: N2. Nutzung und bauliche | C8: Änderungen die einen Einfluß auf den Energie und Wasserverbrauch der Liegenschaft haben, sind dem Energiemanagement zu melden.
A9: Maßnahmen
A11: Die Kästchen entsprechend ankreuzen, die auf die Ligenschaft zutreffen.
A13: ="Folgende Änderungen haben sich während des Jahres "&YEAR(G3)&" ergeben. Siehe auch Blatt 4A" -> Folgende Änderungen haben sich während des Jahres 2025 ergeben. Siehe auch Blatt 4A
A14: Neue Anlagen der Technischen Gebäudeausrüstung | F14: Errichtung oder Abriss neuer Gebäude (-Teile)
A15: Austausch Heizkessel | F15: Aufstellung Container-Anlagen (auch als Holzmodule)
A16: Errichtung Wärmepumpe zur Trinkwassererzeugung | F16: Rückbau einer Container-Anlage (auch Holzmodule)
A17: Errichtung von PV-Anlagen | F17: Abriss eines Gebäudes
A18: Errichtung von BHKWs | F18: Errichtung eines Gebäudes (-Teils) (z.B. Dachaufstockung)
A19: Errichtung Solarthermische Anlage (Solarkollektor) | F19: Außerbetriebnahme eines Gebäudes (-Teils)
A20: Errichtung einer Lüftungsanlage | F20: Sonstiges:
A21: Errichtung eines Klimagerätes (z.B. zur Serverkühlung) | F21: Bitte Datum der Inbetriebnahme oder Außerbetriebnahme, Anzahl der Container, Art der Beheizung der Container (z.B. elektrischer Heizkörper), in einem separaten Dokument diesen Unterlagen bei der Übermittlung beilegen
A22: Installation Hygienespülstationen Trinkwasser
A23: Errichtung Ladestationen (PkW, Fahrrad)
A24: Errichtung einer Zisterne / Regenwassernutzungsanlage
A25: Sonstiges:
A26: Bitte Anzahl der Geräte, Datum der Installation oder Errichtung, ggf. Foto des Typenschildes in einem separaten Dokument diesen Unterlagen bei der Übermittlung beilegen | F26: Änderung der Nutzung
F27: Längere / kürzere Nutzungszeiten eines Gebäude (-teils)
F28: Höhere / niedrigere Nutzer-/ Schülerzahlen (z.B. neue Klassen)
F29: Einrichtung von Unterkünften (z.B. bei Krisen)
A30: Anlagen- und Betriebsoptimierung | F30: Umnutzung von Räumen (z.B. DWG für den psycholog. Dienst)
A31: Installation einer GA | B31: Heizung, | C31: Lüftung, | D31: Licht | F31: Nutzung eines vorher ungenutzten Gebäude (-Teils)
A32: Einstellung der Betriebszeiten (z.B. Laufzeiten Lüftungsanlage) | F32: Sonstiges:
A33: Einstellung der Systemtemperaturen (z.B. Einstellung der Heiz- | F33: Bitte Anzahl der Personen, Datum des Beginn der veränderten Nutzung, Angabe des örtlichen Bereiches (z.B. Turnhalle oder der betroffenen Fläche (3 Klassenräume je 60 m²) in einem separaten Dokument diesen Unterlagen bei der Übermittlung beilegen
A34: kurve am Heizkessel oder der Raumtemperaturen in der GLT)
A35: Austausch o. Einstellung Thermostatventile und anderer Ventile
A36: Durchführung des hydraulischen Abgleiches,
A37: Einbau von begrenzbaren oder smarten Thermostatköpfen
A38: Installation elektronischer Armaturen Handwaschbecken | F38: Änderungen an der Gebäudehülle / Grünanlagen
A39: Einbau Perlatoren oder | F39: Dämmung der Fassade
A40: Volumenstrombegrenzung in Trinkwasserinstallationen | F40: Austausch von Fenstern
A41: Einbau von effizienteren Pumpen oder Ventilatoren | F41: Dämmung der Obersten Geschossdecke / des Daches
A42: Austausch von Leuchten oder Lampen (auf z.B. LED) | F42: neue Grünflächen, neue Fassadenbegrünung, Entsiegelung
...

Sheet 4C. Nachweis - Berechnung
A1: An 25.65
F2: Quelle: energiemanagement.stadt-frankfurt.de
A3: 4C. Nachweis der eingesparten Energie- u. Wasserkosten | G3: 45658 | H3: Nettogrundfläche = | J3: ='1. Nutzung'!K17 -> 3353
A4: Blatt C - Berechnung der Kostenersparnis | G4: Schüler- / Nutzer Anzahl =
A5: Liegenschaft | F5: Energiebeauftragte(r) | I5: =""
A6: Straße, Nr. | F6: Telefon
A7: Ablese-Zeitraum von | B7: =G3 -> 45658 | C7: bis | D7: =B7+366 -> 46024 | E7: = | F7: =D7-B7 -> 366 | G7: Tage mit | H7: Gradtagzahl (Kd/a) | J7: =F68 -> 2795
A8: E. Elektrischer Strom | C8: ='3. Monatsablesung'!E7 -> E.1.0.0-HT | D8: ='3. Monatsablesung'!F7 -> E.1.0.0-NT | E8: ='3. Monatsablesung'!G7 | F8: ='3. Monatsablesung'!H7 | G8: ='3. Monatsablesung'!I7 | H8: ='3. Monatsablesung'!J7 | I8: ='3. Monatsablesung'!K7 | J8: ='3. Monatsablesung'!L7
A9: E1. Zählernummer alt
A10: E2. Zählernummer neu
A11: E3. Verbrauchsbereich (z.B. Schule)
A12: E4. Multiplikator alt (kWh/Einheit)
A13: E5. Multiplikator neu (kWh/Einheit) | C13: ='3. Monatsablesung'!E10 -> 1 | D13: ='3. Monatsablesung'!F10 -> 1 | E13: ='3. Monatsablesung'!G10 -> 1 | F13: ='3. Monatsablesung'!H10 -> 1 | G13: ='3. Monatsablesung'!I10 -> 1 | H13: ='3. Monatsablesung'!J10 -> 1 | I13: ='3. Monatsablesung'!K10 -> 1 | J13: ='3. Monatsablesung'!L10 -> 1
A14: Zählerablesungen: | B14: Datum | C14: Zählerstand | D14: Zählerstand | E14: Zählerstand | F14: Zählerstand | G14: Zählerstand | H14: Zählerstand | I14: Zählerstand | J14: Zählerstand
A15: E6. Beginn Ablesezeitraum | B15: =B7 -> 45658
A16: E7. Zählerwechsel: Zählerstand alt
A17: E8. Zählerstand neu
A18: E9. Ende Ablesezeitraum | B18: =D7 -> 46024
A19: E10. Verbrauch im Ablesezeitraum (kWh) | C19: =IF(C9="","",(C16-C15)*C12+(C18-C17)*C13) | D19: =IF(D9="","",(D16-D15)*D12+(D18-D17)*D13) | E19: =IF(E9="","",(E16-E15)*E12+(E18-E17)*E13) | F19: =IF(F9="","",(F16-F15)*F12+(F18-F17)*F13) | G19: =IF(G9="","",(G16-G15)*G12+(G18-G17)*G13) | H19: =IF(H9="","",(H16-H15)*H12+(H18-H17)*H13) | I19: =IF(I9="","",(I16-I15)*I12+(I18-I17)*I13) | J19: =IF(J9="","",(J16-J15)*J12+(J18-J17)*J13)
A20: E11. Jahresverbrauch (kWh/Jahr) | C20: =IF(C19="","",C19*365/($B18-$B15)) | D20: =IF(D19="","",D19*365/($B18-$B15)) | E20: =IF(E19="","",E19*365/($B18-$B15)) | F20: =IF(F19="","",F19*365/($B18-$B15)) | G20: =IF(G19="","",G19*365/($B18-$B15)) | H20: =IF(H19="","",H19*365/($B18-$B15)) | I20: =IF(I19="","",I19*365/($B18-$B15)) | J20: =IF(J19="","",J19*365/($B18-$B15))
A21: E12. Referenzverbrauch (kWh/Jahr) | C21: =IF(C9="","",'2. Referenzkosten'!C19) | D21: =IF(D9="","",'2. Referenzkosten'!D19) | E21: =IF(E9="","",'2. Referenzkosten'!E19) | F21: =IF(F9="","",'2. Referenzkosten'!F19) | G21: =IF(G9="","",'2. Referenzkosten'!G19) | H21: =IF(H9="","",'2. Referenzkosten'!H19) | I21: =IF(I9="","",'2. Referenzkosten'!I19) | J21: =IF(J9="","",'2. Referenzkosten'!J19)
A22: E13. Korrekturfaktor Gebäude/Nutzung | C22: =IF(C19="","",1) | D22: =IF(D19="","",1) | E22: =IF(E19="","",1) | F22: =IF(F19="","",1) | G22: =IF(G19="","",1) | H22: =IF(H19="","",1) | I22: =IF(I19="","",1) | J22: =IF(J19="","",1)
A23: E14. Verbrauchseinsparung (kWh/Jahr) | C23: =IF(C19="","",C21*C22-C20) | D23: =IF(D19="","",D21*D22-D20) | E23: =IF(E19="","",E21*E22-E20) | F23: =IF(F19="","",F21*F22-F20) | G23: =IF(G19="","",G21*G22-G20) | H23: =IF(H19="","",H21*H22-H20) | I23: =IF(I19="","",I21*I22-I20) | J23: =IF(J19="","",J21*J22-J20)
A24: ="E15. aktueller Bruttopreis ("&'1. Nutzung'!Währung&"/kWh)" -> E15. aktueller Bruttopreis (€/kWh) | C24: 0.3047 | D24: =IF(D19="","",$C24) | E24: =IF(E19="","",$C24) | F24: =IF(F19="","",$C24) | G24: =IF(G19="","",$C24) | H24: =IF(H19="","",$C24) | I24: =IF(I19="","",$C24) | J24: =IF(J19="","",$C24)
A25: ="E16. Kosteneinsparung ("&'1. Nutzung'!Währung&"/Jahr)" -> E16. Kosteneinsparung (€/Jahr) | C25: =IF(C19="","",C23*C24) | D25: =IF(D19="","",D23*D24) | E25: =IF(E19="","",E23*E24) | F25: =IF(F19="","",F23*F24) | G25: =IF(G19="","",G23*G24) | H25: =IF(H19="","",H23*H24) | I25: =IF(I19="","",I23*I24) | J25: =IF(J19="","",J23*J24)
A26: H. Heizenergie | C26: ='3. Monatsablesung'!E25 -> H.1.0.0 | D26: ='3. Monatsablesung'!F25 -> H.2.0.0 | E26: ='3. Monatsablesung'!G25 | F26: ='3. Monatsablesung'!H25 | G26: ='3. Monatsablesung'!I25 | H26: ='3. Monatsablesung'!J25 | I26: ='3. Monatsablesung'!K25 | J26: ='3. Monatsablesung'!L25
A27: H1. Zählernummer alt
A28: H2. Zählernummer neu | C28: =C27 -> 0 | D28: =D27 -> 0 | E28: =E27 -> 0 | F28: =F27 -> 0 | G28: =G27 -> 0 | H28: =H27 -> 0 | I28: =I27 -> 0 | J28: =J27 -> 0
A29: H3. Verbrauchsbereich (z.B. Turnhalle)
A30: H4. Multiplikator alt (kWh/Einheit) | C30: ='3. Monatsablesung'!E29 -> 10.55 | D30: ='3. Monatsablesung'!F29 -> 1 | E30: ='3. Monatsablesung'!G29 -> 1 | F30: ='3. Monatsablesung'!H29 -> 1 | G30: ='3. Monatsablesung'!I29 -> 1 | H30: ='3. Monatsablesung'!J29 -> 1 | I30: ='3. Monatsablesung'!K29 -> 1 | J30: ='3. Monatsablesung'!L29 -> 1
A31: H5. Multiplikator neu (kWh/Einheit) | C31: =C30 -> 10.55 | D31: =D30 -> 1 | E31: =E30 -> 1 | F31: =F30 -> 1 | G31: =G30 -> 1 | H31: =H30 -> 1 | I31: =I30 -> 1 | J31: =J30 -> 1
A32: Zählerablesungen: | B32: Datum | C32: Zählerstand | D32: Zählerstand | E32: Zählerstand | F32: Zählerstand | G32: Zählerstand | H32: Zählerstand | I32: Zählerstand | J32: Zählerstand
A33: H6. Beginn Ablesezeitraum | B33: =B7 -> 45658
A34: H7. Zählerwechsel: Zählerstand alt
A35: H8. Zählerstand neu
A36: H9. Ende Ablesezeitraum | B36: =D7 -> 46024
A37: H10. Verbrauch im Ablesezeitraum (kWh) | C37: =IF(C27="","",(C34-C33)*C30+(C36-C35)*C31) | D37: =IF(D27="","",(D34-D33)*D30+(D36-D35)*D31) | E37: =IF(E27="","",(E34-E33)*E30+(E36-E35)*E31) | F37: =IF(F27="","",(F34-F33)*F30+(F36-F35)*F31) | G37: =IF(G27="","",(G34-G33)*G30+(G36-G35)*G31) | H37: =IF(H27="","",(H34-H33)*H30+(H36-H35)*H31) | I37: =IF(I27="","",(I34-I33)*I30+(I36-I35)*I31) | J37: =IF(J27="","",(J34-J33)*J30+(J36-J35)*J31)
A38: H11. Jahresverbrauch (kWh/Jahr) | C38: =IF(C37="","",C37*365/($B36-$B33)) | D38: =IF(D37="","",D37*365/($B36-$B33)) | E38: =IF(E37="","",E37*365/($B36-$B33)) | F38: =IF(F37="","",F37*365/($B36-$B33)) | G38: =IF(G37="","",G37*365/($B36-$B33)) | H38: =IF(H37="","",H37*365/($B36-$B33)) | I38: =IF(I37="","",I37*365/($B36-$B33)) | J38: =IF(J37="","",J37*365/($B36-$B33))
A39: H12. Korrekturfaktor Wetter | C39: =0.15 + 0.85*3249*($B$36-$B$33)/($J$7*365) -> 1.140775 | D39: =IF(D37="","",0.15 + 0.85*3249*($B$36-$B$33)/($J$7*365)) | E39: =IF(E37="","",0.15 + 0.85*3249*($B$36-$B$33)/($J$7*365)) | F39: =IF(F37="","",0.15 + 0.85*3249*($B$36-$B$33)/($J$7*365)) | G39: =IF(G37="","",0.15 + 0.85*3249*($B$36-$B$33)/($J$7*365)) | H39: =IF(H37="","",0.15 + 0.85*3249*($B$36-$B$33)/($J$7*365)) | I39: =IF(I37="","",0.15 + 0.85*3249*($B$36-$B$33)/($J$7*365)) | J39: =IF(J37="","",0.15 + 0.85*3249*($B$36-$B$33)/($J$7*365))
A40: H13. Referenzverbrauch (kWh/Jahr) | C40: =IF(C37="","",'2. Referenzkosten'!C38) | D40: =IF(D37="","",'2. Referenzkosten'!D38) | E40: =IF(E37="","",'2. Referenzkosten'!E38) | F40: =IF(F37="","",'2. Referenzkosten'!F38) | G40: =IF(G37="","",'2. Referenzkosten'!G38) | H40: =IF(H37="","",'2. Referenzkosten'!H38) | I40: =IF(I37="","",'2. Referenzkosten'!I38) | J40: =IF(J37="","",'2. Referenzkosten'!J38)
...

Sheet AbrechnungEVUxxxx
A1: EVU-Daten - 2025
B5: Datum | D5: Strom 2025
B6: Von | C6: bis | D6: HT | E6: NT | F6: Zählernr.
B7: - | C7: - | D7: kWh | E7: kWh | F7: -
B8: 45992 | C8: 46022
B9: 45962 | C9: 45991
B10: 45931 | C10: 45961
B11: 45901 | C11: 45930
B12: 45870 | C12: 45900
B13: 45839 | C13: 45869
B14: 45809 | C14: 45838
B15: 45778 | C15: 45808
B16: 45748 | C16: 45412
B17: 45717 | C17: 45747
B18: 45689 | C18: 45716
B19: 45658 | C19: 45688
B20: Summe | D20: =SUM(D8:D19) -> 0 | E20: =SUM(E8:E19) -> 0
B23: Datum | D23: Erdgas 2025
B24: Von | C24: bis | D24: Verbauch | E24: Brennwert | F24: Zustandszahl | G24: Gasverbrauch | H24: Zählernr.
B25: - | C25: - | D25: kWh | E25: kWh/mN³ | F25: - | G25: mB³ | H25: -
B26: =B8 -> 45992 | C26: =C8 -> 46022 | G26: =D26/(E26*F26) -> #DIV/0!
B27: =B9 -> 45962 | C27: =C9 -> 45991 | G27: =D27/(E27*F27) -> #DIV/0!
B28: =B10 -> 45931 | C28: =C10 -> 45961 | G28: =D28/(E28*F28) -> #DIV/0!
B29: =B11 -> 45901 | C29: =C11 -> 45930 | G29: =D29/(E29*F29) -> #DIV/0!
B30: =B12 -> 45870 | C30: =C12 -> 45900 | G30: =D30/(E30*F30) -> #DIV/0!
B31: =B13 -> 45839 | C31: =C13 -> 45869 | G31: =D31/(E31*F31) -> #DIV/0!
B32: =B14 -> 45809 | C32: =C14 -> 45838 | G32: =D32/(E32*F32) -> #DIV/0!
B33: =B15 -> 45778 | C33: =C15 -> 45808 | G33: =D33/(E33*F33) -> #DIV/0!
B34: =B16 -> 45748 | C34: =C16 -> 45412 | G34: =D34/(E34*F34) -> #DIV/0!
B35: =B17 -> 45717 | C35: =C17 -> 45747 | G35: =D35/(E35*F35) -> #DIV/0!
B36: =B18 -> 45689 | C36: =C18 -> 45716 | G36: =D36/(E36*F36) -> #DIV/0!
B37: =B19 -> 45658 | C37: =C19 -> 45688 | G37: =D37/(E37*F37) -> #DIV/0!
B38: Summe | D38: =SUM(D26:D37) -> 0 | G38: =SUM(G26:G37) -> #DIV/0!
